BEGIN:VCALENDAR
VERSION:2.0
PRODID:-//CPC Orleans - ECPv6.1.3//NONSGML v1.0//EN
CALSCALE:GREGORIAN
METHOD:PUBLISH
X-ORIGINAL-URL:https://cpcorleans.ca
X-WR-CALDESC:Events for CPC Orleans
REFRESH-INTERVAL;VALUE=DURATION:PT1H
X-Robots-Tag:noindex
X-PUBLISHED-TTL:PT1H
BEGIN:VTIMEZONE
TZID:America/Toronto
BEGIN:DAYLIGHT
TZOFFSETFROM:-0500
TZOFFSETTO:-0400
TZNAME:EDT
DTSTART:20220313T070000
END:DAYLIGHT
BEGIN:STANDARD
TZOFFSETFROM:-0400
TZOFFSETTO:-0500
TZNAME:EST
DTSTART:20221106T060000
END:STANDARD
END:VTIMEZONE
BEGIN:VEVENT
DTSTART;TZID=America/Toronto:20221130T100000
DTEND;TZID=America/Toronto:20221130T110000
DTSTAMP:20260419T112014
CREATED:20180430T171613Z
LAST-MODIFIED:20180430T171613Z
UID:14333-1669802400-1669806000@cpcorleans.ca
SUMMARY:Men's Breakfast
DESCRIPTION:Join the some of CPC’s men as they meet for breakfast.
URL:https://cpcorleans.ca/event/mens-breakfast-2022-11-30/
LOCATION:CPC Orleans\, 1825 St. Joseph\, Ottawa\, Ontario\, Canada
END:VEVENT
BEGIN:VEVENT
DTSTART;TZID=America/Toronto:20221130T103000
DTEND;TZID=America/Toronto:20221130T120000
DTSTAMP:20260419T112014
CREATED:20220830T160929Z
LAST-MODIFIED:20220830T160929Z
UID:17668-1669804200-1669809600@cpcorleans.ca
SUMMARY:The Well
DESCRIPTION:Ladies prayer & share
URL:https://cpcorleans.ca/event/the-well-8-2022-11-30/
LOCATION:CPC Orleans\, 1825 St. Joseph\, Ottawa\, Ontario\, Canada
CATEGORIES:Ladies
END:VEVENT
BEGIN:VEVENT
DTSTART;TZID=America/Toronto:20221130T183000
DTEND;TZID=America/Toronto:20221130T200000
DTSTAMP:20260419T112014
CREATED:20220830T152214Z
LAST-MODIFIED:20220830T152214Z
UID:17526-1669833000-1669838400@cpcorleans.ca
SUMMARY:Kids Central
DESCRIPTION:Each Wednesday from 6:30-8:00pm Children in JK/SK – Grade 5 are invited to participate in a fun filled mid-week program!\nIt will be a hands on evening that is filled with games\, and fun filled learning!
URL:https://cpcorleans.ca/event/kids-central-2022-11-30/
LOCATION:CPC Orleans\, 1825 St. Joseph\, Ottawa\, Ontario\, Canada
CATEGORIES:Childrens Events
END:VEVENT
END:VCALENDAR