BEGIN:VCALENDAR
VERSION:2.0
PRODID:-//CPC Orleans - ECPv6.1.3//NONSGML v1.0//EN
CALSCALE:GREGORIAN
METHOD:PUBLISH
X-WR-CALNAME:CPC Orleans
X-ORIGINAL-URL:https://cpcorleans.ca
X-WR-CALDESC:Events for CPC Orleans
REFRESH-INTERVAL;VALUE=DURATION:PT1H
X-Robots-Tag:noindex
X-PUBLISHED-TTL:PT1H
BEGIN:VTIMEZONE
TZID:America/Toronto
BEGIN:DAYLIGHT
TZOFFSETFROM:-0500
TZOFFSETTO:-0400
TZNAME:EDT
DTSTART:20220313T070000
END:DAYLIGHT
BEGIN:STANDARD
TZOFFSETFROM:-0400
TZOFFSETTO:-0500
TZNAME:EST
DTSTART:20221106T060000
END:STANDARD
END:VTIMEZONE
BEGIN:VEVENT
DTSTART;VALUE=DATE:20221224
DTEND;VALUE=DATE:20221225
DTSTAMP:20260421T060015
CREATED:20220830T161318Z
LAST-MODIFIED:20220830T201726Z
UID:17672-1671840000-1671926399@cpcorleans.ca
SUMMARY:Christmas Eve Services
DESCRIPTION:Join us for our Christmas Eve services.
URL:https://cpcorleans.ca/event/christmas-eve-services/
LOCATION:CPC Orleans\, 1825 St. Joseph\, Ottawa\, Ontario\, Canada
END:VEVENT
BEGIN:VEVENT
DTSTART;TZID=America/Toronto:20221224T170000
DTEND;TZID=America/Toronto:20221224T190000
DTSTAMP:20260421T060015
CREATED:20190121T151534Z
LAST-MODIFIED:20190121T151534Z
UID:14416-1671901200-1671908400@cpcorleans.ca
SUMMARY:Spanish Service
DESCRIPTION:Join Pastor Luis in Room 109 for this service
URL:https://cpcorleans.ca/event/spanish-service-saturday-2022-12-24/
LOCATION:CPC Orleans\, 1825 St. Joseph\, Ottawa\, Ontario\, Canada
CATEGORIES:Spanish
END:VEVENT
END:VCALENDAR