BEGIN:VCALENDAR
VERSION:2.0
PRODID:-//CPC Orleans - ECPv6.1.3//NONSGML v1.0//EN
CALSCALE:GREGORIAN
METHOD:PUBLISH
X-ORIGINAL-URL:https://cpcorleans.ca
X-WR-CALDESC:Events for CPC Orleans
REFRESH-INTERVAL;VALUE=DURATION:PT1H
X-Robots-Tag:noindex
X-PUBLISHED-TTL:PT1H
BEGIN:VTIMEZONE
TZID:America/Toronto
BEGIN:DAYLIGHT
TZOFFSETFROM:-0500
TZOFFSETTO:-0400
TZNAME:EDT
DTSTART:20230312T070000
END:DAYLIGHT
BEGIN:STANDARD
TZOFFSETFROM:-0400
TZOFFSETTO:-0500
TZNAME:EST
DTSTART:20231105T060000
END:STANDARD
END:VTIMEZONE
BEGIN:VEVENT
DTSTART;VALUE=DATE:20230203
DTEND;VALUE=DATE:20230206
DTSTAMP:20260419T155734
CREATED:20230106T223605Z
LAST-MODIFIED:20230106T223605Z
UID:18085-1675382400-1675641599@cpcorleans.ca
SUMMARY:CY Youth Retreat
DESCRIPTION:For more details or to register click HERE
URL:https://cpcorleans.ca/event/cy-youth-retreat/
LOCATION:CPC Orleans\, 1825 St. Joseph\, Ottawa\, Ontario\, Canada
CATEGORIES:Youth
END:VEVENT
BEGIN:VEVENT
DTSTART;TZID=America/Toronto:20230205T103000
DTEND;TZID=America/Toronto:20230205T120000
DTSTAMP:20260419T155734
CREATED:20220414T140952Z
LAST-MODIFIED:20220414T140952Z
UID:17758-1675593000-1675598400@cpcorleans.ca
SUMMARY:Sunday Morning Service
DESCRIPTION:Join us In-Person or Online
URL:https://cpcorleans.ca/event/sunday-morning-service-2022-09-11-2023-02-05/
LOCATION:CPC Orleans\, 1825 St. Joseph\, Ottawa\, Ontario\, Canada
CATEGORIES:General
END:VEVENT
END:VCALENDAR