BEGIN:VCALENDAR
VERSION:2.0
PRODID:-//CPC Orleans - ECPv6.1.3//NONSGML v1.0//EN
CALSCALE:GREGORIAN
METHOD:PUBLISH
X-ORIGINAL-URL:https://cpcorleans.ca
X-WR-CALDESC:Events for CPC Orleans
REFRESH-INTERVAL;VALUE=DURATION:PT1H
X-Robots-Tag:noindex
X-PUBLISHED-TTL:PT1H
BEGIN:VTIMEZONE
TZID:America/Toronto
BEGIN:DAYLIGHT
TZOFFSETFROM:-0500
TZOFFSETTO:-0400
TZNAME:EDT
DTSTART:20230312T070000
END:DAYLIGHT
BEGIN:STANDARD
TZOFFSETFROM:-0400
TZOFFSETTO:-0500
TZNAME:EST
DTSTART:20231105T060000
END:STANDARD
END:VTIMEZONE
BEGIN:VEVENT
DTSTART;TZID=America/Toronto:20230306T190000
DTEND;TZID=America/Toronto:20230306T210000
DTSTAMP:20260419T112018
CREATED:20230106T220621Z
LAST-MODIFIED:20230106T220621Z
UID:18025-1678129200-1678136400@cpcorleans.ca
SUMMARY:Men's Basketball
DESCRIPTION:
URL:https://cpcorleans.ca/event/mens-basketball-2-2023-03-06/
LOCATION:CPC Orleans\, 1825 St. Joseph\, Ottawa\, Ontario\, Canada
CATEGORIES:Men
END:VEVENT
END:VCALENDAR