BEGIN:VCALENDAR
VERSION:2.0
PRODID:-//CPC Orleans - ECPv6.1.3//NONSGML v1.0//EN
CALSCALE:GREGORIAN
METHOD:PUBLISH
X-ORIGINAL-URL:https://cpcorleans.ca
X-WR-CALDESC:Events for CPC Orleans
REFRESH-INTERVAL;VALUE=DURATION:PT1H
X-Robots-Tag:noindex
X-PUBLISHED-TTL:PT1H
BEGIN:VTIMEZONE
TZID:America/Toronto
BEGIN:DAYLIGHT
TZOFFSETFROM:-0500
TZOFFSETTO:-0400
TZNAME:EDT
DTSTART:20230312T070000
END:DAYLIGHT
BEGIN:STANDARD
TZOFFSETFROM:-0400
TZOFFSETTO:-0500
TZNAME:EST
DTSTART:20231105T060000
END:STANDARD
END:VTIMEZONE
BEGIN:VEVENT
DTSTART;TZID=America/Toronto:20230323T110000
DTEND;TZID=America/Toronto:20230323T120000
DTSTAMP:20260421T043713
CREATED:20230106T222543Z
LAST-MODIFIED:20230106T222543Z
UID:18081-1679569200-1679572800@cpcorleans.ca
SUMMARY:Seniors in Worship (In-Person)
DESCRIPTION:Join Pastor Gordon for a monthly service geared for the 55+. Following the service there will be a light lunch (cost:$5) and a time of fellowship.
URL:https://cpcorleans.ca/event/seniors-in-worship-in-person-2023-03-23/
LOCATION:CPC Orleans\, 1825 St. Joseph\, Ottawa\, Ontario\, Canada
END:VEVENT
BEGIN:VEVENT
DTSTART;TZID=America/Toronto:20230323T183000
DTEND;TZID=America/Toronto:20230323T210000
DTSTAMP:20260421T043713
CREATED:20170919T150416Z
LAST-MODIFIED:20170919T150416Z
UID:15519-1679596200-1679605200@cpcorleans.ca
SUMMARY:CY
DESCRIPTION:CY – Community Youth
URL:https://cpcorleans.ca/event/the-exchange-youth-night-2023-03-23/
LOCATION:CPC Orleans\, 1825 St. Joseph\, Ottawa\, Ontario\, Canada
CATEGORIES:Youth
END:VEVENT
BEGIN:VEVENT
DTSTART;TZID=America/Toronto:20230323T190000
DTEND;TZID=America/Toronto:20230323T203000
DTSTAMP:20260421T043713
CREATED:20160511T151232Z
LAST-MODIFIED:20160511T151232Z
UID:15518-1679598000-1679603400@cpcorleans.ca
SUMMARY:Gamblers Anonymous
DESCRIPTION:Support group for people affected by gambling.
URL:https://cpcorleans.ca/event/gamblers-anonymous-2023-03-23/
LOCATION:CPC Orleans\, 1825 St. Joseph\, Ottawa\, Ontario\, Canada
CATEGORIES:General
END:VEVENT
END:VCALENDAR