BEGIN:VCALENDAR
VERSION:2.0
PRODID:-//CPC Orleans - ECPv6.1.3//NONSGML v1.0//EN
CALSCALE:GREGORIAN
METHOD:PUBLISH
X-ORIGINAL-URL:https://cpcorleans.ca
X-WR-CALDESC:Events for CPC Orleans
REFRESH-INTERVAL;VALUE=DURATION:PT1H
X-Robots-Tag:noindex
X-PUBLISHED-TTL:PT1H
BEGIN:VTIMEZONE
TZID:America/Toronto
BEGIN:DAYLIGHT
TZOFFSETFROM:-0500
TZOFFSETTO:-0400
TZNAME:EDT
DTSTART:20230312T070000
END:DAYLIGHT
BEGIN:STANDARD
TZOFFSETFROM:-0400
TZOFFSETTO:-0500
TZNAME:EST
DTSTART:20231105T060000
END:STANDARD
END:VTIMEZONE
BEGIN:VEVENT
DTSTART;TZID=America/Toronto:20230531T100000
DTEND;TZID=America/Toronto:20230531T110000
DTSTAMP:20260421T084753
CREATED:20180430T171613Z
LAST-MODIFIED:20180430T171613Z
UID:15699-1685527200-1685530800@cpcorleans.ca
SUMMARY:Men's Breakfast
DESCRIPTION:Join the some of CPC’s men as they meet for breakfast.
URL:https://cpcorleans.ca/event/mens-breakfast-2023-05-31/
LOCATION:CPC Orleans\, 1825 St. Joseph\, Ottawa\, Ontario\, Canada
END:VEVENT
BEGIN:VEVENT
DTSTART;TZID=America/Toronto:20230531T103000
DTEND;TZID=America/Toronto:20230531T120000
DTSTAMP:20260421T084753
CREATED:20220830T160929Z
LAST-MODIFIED:20220830T160929Z
UID:18066-1685529000-1685534400@cpcorleans.ca
SUMMARY:The Well
DESCRIPTION:Ladies prayer & share
URL:https://cpcorleans.ca/event/the-well-8-2022-12-21-2023-05-31/
LOCATION:CPC Orleans\, 1825 St. Joseph\, Ottawa\, Ontario\, Canada
CATEGORIES:Ladies
END:VEVENT
END:VCALENDAR