BEGIN:VCALENDAR
VERSION:2.0
PRODID:-//CPC Orleans - ECPv6.1.3//NONSGML v1.0//EN
CALSCALE:GREGORIAN
METHOD:PUBLISH
X-WR-CALNAME:CPC Orleans
X-ORIGINAL-URL:https://cpcorleans.ca
X-WR-CALDESC:Events for CPC Orleans
REFRESH-INTERVAL;VALUE=DURATION:PT1H
X-Robots-Tag:noindex
X-PUBLISHED-TTL:PT1H
BEGIN:VTIMEZONE
TZID:America/Toronto
BEGIN:DAYLIGHT
TZOFFSETFROM:-0500
TZOFFSETTO:-0400
TZNAME:EDT
DTSTART:20230312T070000
END:DAYLIGHT
BEGIN:STANDARD
TZOFFSETFROM:-0400
TZOFFSETTO:-0500
TZNAME:EST
DTSTART:20231105T060000
END:STANDARD
END:VTIMEZONE
BEGIN:VEVENT
DTSTART;VALUE=DATE:20230819
DTEND;VALUE=DATE:20230820
DTSTAMP:20260421T104305
CREATED:20230629T201737Z
LAST-MODIFIED:20230629T201737Z
UID:18357-1692403200-1692489599@cpcorleans.ca
SUMMARY:Ride To Thrive
DESCRIPTION:World Missions Fundraiser for the PAOC\n100km Bike Ride\, 25km Bike Ride\, Family Walk. \nRegister HERE
URL:https://cpcorleans.ca/event/ride-to-thrive/
CATEGORIES:Sports
END:VEVENT
END:VCALENDAR