BEGIN:VCALENDAR
VERSION:2.0
PRODID:-//CPC Orleans - ECPv6.1.3//NONSGML v1.0//EN
CALSCALE:GREGORIAN
METHOD:PUBLISH
X-WR-CALNAME:CPC Orleans
X-ORIGINAL-URL:https://cpcorleans.ca
X-WR-CALDESC:Events for CPC Orleans
REFRESH-INTERVAL;VALUE=DURATION:PT1H
X-Robots-Tag:noindex
X-PUBLISHED-TTL:PT1H
BEGIN:VTIMEZONE
TZID:America/Toronto
BEGIN:DAYLIGHT
TZOFFSETFROM:-0500
TZOFFSETTO:-0400
TZNAME:EDT
DTSTART:20200308T070000
END:DAYLIGHT
BEGIN:STANDARD
TZOFFSETFROM:-0400
TZOFFSETTO:-0500
TZNAME:EST
DTSTART:20201101T060000
END:STANDARD
BEGIN:DAYLIGHT
TZOFFSETFROM:-0500
TZOFFSETTO:-0400
TZNAME:EDT
DTSTART:20210314T070000
END:DAYLIGHT
BEGIN:STANDARD
TZOFFSETFROM:-0400
TZOFFSETTO:-0500
TZNAME:EST
DTSTART:20211107T060000
END:STANDARD
BEGIN:DAYLIGHT
TZOFFSETFROM:-0500
TZOFFSETTO:-0400
TZNAME:EDT
DTSTART:20220313T070000
END:DAYLIGHT
BEGIN:STANDARD
TZOFFSETFROM:-0400
TZOFFSETTO:-0500
TZNAME:EST
DTSTART:20221106T060000
END:STANDARD
END:VTIMEZONE
BEGIN:VEVENT
DTSTART;TZID=America/Toronto:20220113T103000
DTEND;TZID=America/Toronto:20220113T120000
DTSTAMP:20260419T160534
CREATED:20220216T145831Z
LAST-MODIFIED:20220216T145831Z
UID:16841-1642069800-1642075200@cpcorleans.ca
SUMMARY:Seniors in Worship
DESCRIPTION:Join with Pastor Gordon and Linda Wood on the 2nd & 4th Thursdays of the month for a time of bible study and connecting together.
URL:https://cpcorleans.ca/event/seniors-in-worship/
LOCATION:CPC Orleans\, 1825 St. Joseph\, Ottawa\, Ontario\, Canada
CATEGORIES:Seniors
END:VEVENT
BEGIN:VEVENT
DTSTART;TZID=America/Toronto:20220112T103000
DTEND;TZID=America/Toronto:20220112T120000
DTSTAMP:20260419T160534
CREATED:20220216T144921Z
LAST-MODIFIED:20220520T171102Z
UID:16816-1641983400-1641988800@cpcorleans.ca
SUMMARY:The Well
DESCRIPTION:Ladies prayer & share taking place both In-Person & Online
URL:https://cpcorleans.ca/event/the-well-7/
LOCATION:CPC Orleans\, 1825 St. Joseph\, Ottawa\, Ontario\, Canada
CATEGORIES:Ladies
END:VEVENT
BEGIN:VEVENT
DTSTART;TZID=America/Toronto:20211226T110000
DTEND;TZID=America/Toronto:20211226T120000
DTSTAMP:20260419T160534
CREATED:20160511T154502Z
LAST-MODIFIED:20211217T210920Z
UID:15827-1640516400-1640520000@cpcorleans.ca
SUMMARY:Community Online Service
DESCRIPTION:Join us for our Online Only service. Follow us on YouTube to never miss a live event.
URL:https://cpcorleans.ca/event/morning-service-2021-12-26/
LOCATION:CPC Orleans\, 1825 St. Joseph\, Ottawa\, Ontario\, Canada
CATEGORIES:General
END:VEVENT
BEGIN:VEVENT
DTSTART;TZID=America/Toronto:20211224T180000
DTEND;TZID=America/Toronto:20211224T190000
DTSTAMP:20260419T160534
CREATED:20211217T210637Z
LAST-MODIFIED:20211217T210947Z
UID:16450-1640368800-1640372400@cpcorleans.ca
SUMMARY:Christmas Eve Service
DESCRIPTION:Join us for our Christmas Eve Service. If you’re joining us in person please REGISTER in advance
URL:https://cpcorleans.ca/event/christmas-eve-service-2/
LOCATION:CPC Orleans\, 1825 St. Joseph\, Ottawa\, Ontario\, Canada
CATEGORIES:General
END:VEVENT
BEGIN:VEVENT
DTSTART;TZID=America/Toronto:20211101T183000
DTEND;TZID=America/Toronto:20211101T200000
DTSTAMP:20260419T160534
CREATED:20211005T135556Z
LAST-MODIFIED:20211005T135556Z
UID:16347-1635791400-1635796800@cpcorleans.ca
SUMMARY:Membership Class
DESCRIPTION:If you are interested in becoming a member of Community\, visit the Registration Tab for more information
URL:https://cpcorleans.ca/event/membership-class-4/
LOCATION:CPC Orleans\, 1825 St. Joseph\, Ottawa\, Ontario\, Canada
END:VEVENT
BEGIN:VEVENT
DTSTART;VALUE=DATE:20211021
DTEND;VALUE=DATE:20211023
DTSTAMP:20260419T160534
CREATED:20211005T142509Z
LAST-MODIFIED:20211005T142509Z
UID:16351-1634774400-1634947199@cpcorleans.ca
SUMMARY:Global Leadership Summit
DESCRIPTION:
URL:https://cpcorleans.ca/event/global-leadership-summit-2/
LOCATION:CPC Orleans\, 1825 St. Joseph\, Ottawa\, Ontario\, Canada
CATEGORIES:General
END:VEVENT
BEGIN:VEVENT
DTSTART;TZID=America/Toronto:20211003T160000
DTEND;TZID=America/Toronto:20211003T180000
DTSTAMP:20260419T160534
CREATED:20210831T201913Z
LAST-MODIFIED:20210831T201913Z
UID:16231-1633276800-1633284000@cpcorleans.ca
SUMMARY:Love Our City
DESCRIPTION:
URL:https://cpcorleans.ca/event/love-our-city/
LOCATION:CPC Orleans\, 1825 St. Joseph\, Ottawa\, Ontario\, Canada
END:VEVENT
BEGIN:VEVENT
DTSTART;TZID=America/Toronto:20210928T190000
DTEND;TZID=America/Toronto:20210928T203000
DTSTAMP:20260419T160534
CREATED:20211005T135224Z
LAST-MODIFIED:20220520T171528Z
UID:16340-1632855600-1632861000@cpcorleans.ca
SUMMARY:iPray
DESCRIPTION:Join us every 2nd & fourth Tuesday at 7:00 PM for a time of intercessory prayer.
URL:https://cpcorleans.ca/event/ipray/
LOCATION:CPC Orleans\, 1825 St. Joseph\, Ottawa\, Ontario\, Canada
CATEGORIES:Prayer
END:VEVENT
BEGIN:VEVENT
DTSTART;TZID=America/Toronto:20210921T190000
DTEND;TZID=America/Toronto:20210921T203000
DTSTAMP:20260419T160534
CREATED:20211005T134843Z
LAST-MODIFIED:20211005T134843Z
UID:16330-1632250800-1632256200@cpcorleans.ca
SUMMARY:Alpha Online
DESCRIPTION:Alpha is a series of video sessions/talks exploring the Christian faith shared via Zoom.
URL:https://cpcorleans.ca/event/alpha-online/
LOCATION:CPC Orleans\, 1825 St. Joseph\, Ottawa\, Ontario\, Canada
CATEGORIES:Online
END:VEVENT
BEGIN:VEVENT
DTSTART;TZID=America/Toronto:20210915T103000
DTEND;TZID=America/Toronto:20210915T120000
DTSTAMP:20260419T160534
CREATED:20211005T134612Z
LAST-MODIFIED:20211005T134612Z
UID:16315-1631701800-1631707200@cpcorleans.ca
SUMMARY:The Well
DESCRIPTION:Join with other ladies\, In Person or on Zoom\, as we weekly study the book of Jonah.
URL:https://cpcorleans.ca/event/the-well-6/
LOCATION:CPC Orleans\, 1825 St. Joseph\, Ottawa\, Ontario\, Canada
CATEGORIES:Ladies
END:VEVENT
BEGIN:VEVENT
DTSTART;TZID=America/Toronto:20210516T103000
DTEND;TZID=America/Toronto:20210516T120000
DTSTAMP:20260419T160534
CREATED:20160511T154502Z
LAST-MODIFIED:20210427T135644Z
UID:11077-1621161000-1621166400@cpcorleans.ca
SUMMARY:Sunday Worship Service (Online)
DESCRIPTION:Join us either in person or online for our worship service. If you our planning to attend in person please make sure to register before attending. Click the REGISTRATION button on the home page.
URL:https://cpcorleans.ca/event/morning-service-2021-05-16/
LOCATION:CPC Orleans\, 1825 St. Joseph\, Ottawa\, Ontario\, Canada
CATEGORIES:General
END:VEVENT
BEGIN:VEVENT
DTSTART;TZID=America/Toronto:20210509T103000
DTEND;TZID=America/Toronto:20210509T120000
DTSTAMP:20260419T160534
CREATED:20160511T154502Z
LAST-MODIFIED:20210427T135621Z
UID:11057-1620556200-1620561600@cpcorleans.ca
SUMMARY:Sunday Worship Service (Online)
DESCRIPTION:Join us either in person or online for our worship service. If you our planning to attend in person please make sure to register before attending. Click the REGISTRATION button on the home page.
URL:https://cpcorleans.ca/event/morning-service-2021-05-09/
LOCATION:CPC Orleans\, 1825 St. Joseph\, Ottawa\, Ontario\, Canada
CATEGORIES:General
END:VEVENT
BEGIN:VEVENT
DTSTART;TZID=America/Toronto:20210502T183000
DTEND;TZID=America/Toronto:20210502T200000
DTSTAMP:20260419T160534
CREATED:20210218T204541Z
LAST-MODIFIED:20210218T204541Z
UID:14956-1619980200-1619985600@cpcorleans.ca
SUMMARY:Membership Class
DESCRIPTION:
URL:https://cpcorleans.ca/event/membership-class-3/
LOCATION:CPC Orleans\, 1825 St. Joseph\, Ottawa\, Ontario\, Canada
END:VEVENT
BEGIN:VEVENT
DTSTART;TZID=America/Toronto:20210502T103000
DTEND;TZID=America/Toronto:20210502T120000
DTSTAMP:20260419T160534
CREATED:20160511T154502Z
LAST-MODIFIED:20210427T135559Z
UID:11045-1619951400-1619956800@cpcorleans.ca
SUMMARY:Sunday Worship Service (Online)
DESCRIPTION:Join us either in person or online for our worship service. If you our planning to attend in person please make sure to register before attending. Click the REGISTRATION button on the home page.
URL:https://cpcorleans.ca/event/morning-service-2021-05-02/
LOCATION:CPC Orleans\, 1825 St. Joseph\, Ottawa\, Ontario\, Canada
CATEGORIES:General
END:VEVENT
BEGIN:VEVENT
DTSTART;TZID=America/Toronto:20210425T103000
DTEND;TZID=America/Toronto:20210425T120000
DTSTAMP:20260419T160534
CREATED:20160511T154502Z
LAST-MODIFIED:20210427T135510Z
UID:11027-1619346600-1619352000@cpcorleans.ca
SUMMARY:Sunday Worship Service (Online)
DESCRIPTION:Join us either in person or online for our worship service. If you our planning to attend in person please make sure to register before attending. Click the REGISTRATION button on the home page.
URL:https://cpcorleans.ca/event/morning-service-2021-04-25/
LOCATION:CPC Orleans\, 1825 St. Joseph\, Ottawa\, Ontario\, Canada
CATEGORIES:General
END:VEVENT
BEGIN:VEVENT
DTSTART;TZID=America/Toronto:20210418T103000
DTEND;TZID=America/Toronto:20210418T120000
DTSTAMP:20260419T160534
CREATED:20160511T154502Z
LAST-MODIFIED:20210427T135348Z
UID:11007-1618741800-1618747200@cpcorleans.ca
SUMMARY:Sunday Worship Service (Online)
DESCRIPTION:Join us either in person or online for our worship service. If you our planning to attend in person please make sure to register before attending. Click the REGISTRATION button on the home page.
URL:https://cpcorleans.ca/event/morning-service-2021-04-18/
LOCATION:CPC Orleans\, 1825 St. Joseph\, Ottawa\, Ontario\, Canada
CATEGORIES:General
END:VEVENT
BEGIN:VEVENT
DTSTART;TZID=America/Toronto:20210402T110000
DTEND;TZID=America/Toronto:20210402T120000
DTSTAMP:20260419T160534
CREATED:20210329T162113Z
LAST-MODIFIED:20210329T162113Z
UID:15536-1617361200-1617364800@cpcorleans.ca
SUMMARY:Good Friday Service
DESCRIPTION:
URL:https://cpcorleans.ca/event/good-friday-service-3/
LOCATION:CPC Orleans\, 1825 St. Joseph\, Ottawa\, Ontario\, Canada
END:VEVENT
BEGIN:VEVENT
DTSTART;TZID=America/Toronto:20210301T190000
DTEND;TZID=America/Toronto:20210301T203000
DTSTAMP:20260419T160534
CREATED:20210218T204100Z
LAST-MODIFIED:20210218T204100Z
UID:14944-1614625200-1614630600@cpcorleans.ca
SUMMARY:Community School of the Bible (Online)
DESCRIPTION:Introduction to Apologetics: A Relational Approach
URL:https://cpcorleans.ca/event/community-school-of-the-bible-online/
LOCATION:CPC Orleans\, 1825 St. Joseph\, Ottawa\, Ontario\, Canada
CATEGORIES:Online
END:VEVENT
BEGIN:VEVENT
DTSTART;TZID=America/Toronto:20210214T103000
DTEND;TZID=America/Toronto:20210214T120000
DTSTAMP:20260419T160534
CREATED:20160511T154502Z
LAST-MODIFIED:20210218T201246Z
UID:10724-1613298600-1613304000@cpcorleans.ca
SUMMARY:Community Online
DESCRIPTION:Join us online for our worship service. If you our planning to attend in person please make sure to register before attending. Click the REGISTRATION button on the home page.
URL:https://cpcorleans.ca/event/morning-service-2021-02-14/
LOCATION:CPC Orleans\, 1825 St. Joseph\, Ottawa\, Ontario\, Canada
CATEGORIES:General
END:VEVENT
BEGIN:VEVENT
DTSTART;TZID=America/Toronto:20210211T183000
DTEND;TZID=America/Toronto:20210211T200000
DTSTAMP:20260419T160534
CREATED:20170919T150416Z
LAST-MODIFIED:20210312T175738Z
UID:15113-1613068200-1613073600@cpcorleans.ca
SUMMARY:CY
DESCRIPTION:CY – Community Youth
URL:https://cpcorleans.ca/event/the-exchange-youth-night-2021-02-11-2/
LOCATION:CPC Orleans\, 1825 St. Joseph\, Ottawa\, Ontario\, Canada
CATEGORIES:Youth
END:VEVENT
BEGIN:VEVENT
DTSTART;TZID=America/Toronto:20210207T103000
DTEND;TZID=America/Toronto:20210207T120000
DTSTAMP:20260419T160534
CREATED:20160511T154502Z
LAST-MODIFIED:20210218T201616Z
UID:10702-1612693800-1612699200@cpcorleans.ca
SUMMARY:Community Online
DESCRIPTION:Join us online for our worship service. If you our planning to attend in person please make sure to register before attending. Click the REGISTRATION button on the home page.
URL:https://cpcorleans.ca/event/morning-service-2021-02-07/
LOCATION:CPC Orleans\, 1825 St. Joseph\, Ottawa\, Ontario\, Canada
CATEGORIES:General
END:VEVENT
BEGIN:VEVENT
DTSTART;TZID=America/Toronto:20210131T103000
DTEND;TZID=America/Toronto:20210131T120000
DTSTAMP:20260419T160534
CREATED:20160511T154502Z
LAST-MODIFIED:20210218T201401Z
UID:10623-1612089000-1612094400@cpcorleans.ca
SUMMARY:Community Online
DESCRIPTION:Join us for our worship service. If you our planning to attend in person please make sure to register before attending. Click the REGISTRATION button on the home page.
URL:https://cpcorleans.ca/event/morning-service-2021-01-31/
LOCATION:CPC Orleans\, 1825 St. Joseph\, Ottawa\, Ontario\, Canada
CATEGORIES:General
END:VEVENT
BEGIN:VEVENT
DTSTART;TZID=America/Toronto:20210119T190000
DTEND;TZID=America/Toronto:20210119T210000
DTSTAMP:20260419T160534
CREATED:20160928T135030Z
LAST-MODIFIED:20200206T142803Z
UID:9268-1611082800-1611090000@cpcorleans.ca
SUMMARY:Intercessory Prayer
DESCRIPTION:
URL:https://cpcorleans.ca/event/mens-prayer-2021-01-19/
LOCATION:CPC Orleans\, 1825 St. Joseph\, Ottawa\, Ontario\, Canada
CATEGORIES:Prayer
END:VEVENT
BEGIN:VEVENT
DTSTART;TZID=America/Toronto:20201227T110000
DTEND;TZID=America/Toronto:20201227T120000
DTSTAMP:20260419T160534
CREATED:20201229T235242Z
LAST-MODIFIED:20201229T235242Z
UID:14442-1609066800-1609070400@cpcorleans.ca
SUMMARY:Community Online
DESCRIPTION:Join us for our online service. Look for us at @cpcorleans on YouTube or click the watch live link on our home page
URL:https://cpcorleans.ca/event/community-online/
LOCATION:CPC Orleans\, 1825 St. Joseph\, Ottawa\, Ontario\, Canada
END:VEVENT
BEGIN:VEVENT
DTSTART;TZID=America/Toronto:20201220T110000
DTEND;TZID=America/Toronto:20201220T120000
DTSTAMP:20260419T160534
CREATED:20200908T195635Z
LAST-MODIFIED:20210618T225918Z
UID:13882-1608462000-1608465600@cpcorleans.ca
SUMMARY:Sunday Worship Service
DESCRIPTION:Join us either in person or online for our worship service. If you our planning to attend in person please make sure to register before attending. Click the REGISTRATION button on the home page.
URL:https://cpcorleans.ca/event/sunday-worship-service-2020-12-20/
LOCATION:CPC Orleans\, 1825 St. Joseph\, Ottawa\, Ontario\, Canada
END:VEVENT
BEGIN:VEVENT
DTSTART;TZID=America/Toronto:20201025T110000
DTEND;TZID=America/Toronto:20201025T120000
DTSTAMP:20260419T160534
CREATED:20200908T195635Z
LAST-MODIFIED:20200928T012908Z
UID:13874-1603623600-1603627200@cpcorleans.ca
SUMMARY:Sunday Worship & Baptism Service
DESCRIPTION:Join us either in person or online for our worship service. If you our planning to attend in person please make sure to register before attending. Click the REGISTRATION button on the home page.
URL:https://cpcorleans.ca/event/sunday-worship-service-2020-10-25/
LOCATION:CPC Orleans\, 1825 St. Joseph\, Ottawa\, Ontario\, Canada
END:VEVENT
BEGIN:VEVENT
DTSTART;TZID=America/Toronto:20201004T180000
DTEND;TZID=America/Toronto:20201004T190000
DTSTAMP:20260419T160534
CREATED:20200928T012631Z
LAST-MODIFIED:20200928T012631Z
UID:14146-1601834400-1601838000@cpcorleans.ca
SUMMARY:Surge Prayer - Online
DESCRIPTION:Join us for an all church prayer meeting on zoom
URL:https://cpcorleans.ca/event/surge-prayer-online/
LOCATION:CPC Orleans\, 1825 St. Joseph\, Ottawa\, Ontario\, Canada
CATEGORIES:Online
END:VEVENT
BEGIN:VEVENT
DTSTART;TZID=America/Toronto:20200926T100000
DTEND;TZID=America/Toronto:20200926T120000
DTSTAMP:20260419T160534
CREATED:20200926T022345Z
LAST-MODIFIED:20200926T022345Z
UID:14094-1601114400-1601121600@cpcorleans.ca
SUMMARY:Compassion Centre Food Bank
DESCRIPTION:
URL:https://cpcorleans.ca/event/compassion-centre-food-bank/
LOCATION:CPC Orleans\, 1825 St. Joseph\, Ottawa\, Ontario\, Canada
END:VEVENT
BEGIN:VEVENT
DTSTART;TZID=America/Toronto:20200923T103000
DTEND;TZID=America/Toronto:20200923T120000
DTSTAMP:20260419T160534
CREATED:20200926T022733Z
LAST-MODIFIED:20200926T022733Z
UID:14104-1600857000-1600862400@cpcorleans.ca
SUMMARY:The Well
DESCRIPTION:Ladies Prayer & Share
URL:https://cpcorleans.ca/event/the-well-5/
LOCATION:CPC Orleans\, 1825 St. Joseph\, Ottawa\, Ontario\, Canada
END:VEVENT
BEGIN:VEVENT
DTSTART;VALUE=DATE:20200919
DTEND;VALUE=DATE:20200920
DTSTAMP:20260419T160534
CREATED:20200926T021137Z
LAST-MODIFIED:20200926T021137Z
UID:14092-1600473600-1600559999@cpcorleans.ca
SUMMARY:Blood Donor Clinic
DESCRIPTION:
URL:https://cpcorleans.ca/event/blood-donor-clinic-4/
LOCATION:CPC Orleans\, 1825 St. Joseph\, Ottawa\, Ontario\, Canada
END:VEVENT
END:VCALENDAR