BEGIN:VCALENDAR
VERSION:2.0
PRODID:-//CPC Orleans - ECPv6.1.3//NONSGML v1.0//EN
CALSCALE:GREGORIAN
METHOD:PUBLISH
X-ORIGINAL-URL:https://cpcorleans.ca
X-WR-CALDESC:Events for CPC Orleans
REFRESH-INTERVAL;VALUE=DURATION:PT1H
X-Robots-Tag:noindex
X-PUBLISHED-TTL:PT1H
BEGIN:VTIMEZONE
TZID:America/Toronto
BEGIN:DAYLIGHT
TZOFFSETFROM:-0500
TZOFFSETTO:-0400
TZNAME:EDT
DTSTART:20220313T070000
END:DAYLIGHT
BEGIN:STANDARD
TZOFFSETFROM:-0400
TZOFFSETTO:-0500
TZNAME:EST
DTSTART:20221106T060000
END:STANDARD
END:VTIMEZONE
BEGIN:VEVENT
DTSTART;VALUE=DATE:20220109
DTEND;VALUE=DATE:20220131
DTSTAMP:20260419T143449
CREATED:20211217T211058Z
LAST-MODIFIED:20211217T211058Z
UID:16455-1641686400-1643587199@cpcorleans.ca
SUMMARY:21 Days of Prayer
DESCRIPTION:Community Prays.
URL:https://cpcorleans.ca/event/21-days-of-prayer/
LOCATION:CPC Orleans\, 1825 St. Joseph\, Ottawa\, Ontario\, Canada
CATEGORIES:Prayer
END:VEVENT
BEGIN:VEVENT
DTSTART;TZID=America/Toronto:20220215T190000
DTEND;TZID=America/Toronto:20220215T203000
DTSTAMP:20260419T143449
CREATED:20211005T135224Z
LAST-MODIFIED:20211005T135224Z
UID:17322-1644951600-1644957000@cpcorleans.ca
SUMMARY:iPray
DESCRIPTION:Join us every 2nd & fourth Tuesday at 7:00 PM for a time of intercessory prayer.
URL:https://cpcorleans.ca/event/ipray-2022-02-15/
LOCATION:CPC Orleans\, 1825 St. Joseph\, Ottawa\, Ontario\, Canada
CATEGORIES:Prayer
END:VEVENT
BEGIN:VEVENT
DTSTART;TZID=America/Toronto:20220216T103000
DTEND;TZID=America/Toronto:20220216T120000
DTSTAMP:20260419T143449
CREATED:20220216T144921Z
LAST-MODIFIED:20220216T144921Z
UID:16822-1645007400-1645012800@cpcorleans.ca
SUMMARY:The Well
DESCRIPTION:Ladies prayer & share taking place both In-Person & Online
URL:https://cpcorleans.ca/event/the-well-7-2022-02-16/
LOCATION:CPC Orleans\, 1825 St. Joseph\, Ottawa\, Ontario\, Canada
CATEGORIES:Ladies
END:VEVENT
BEGIN:VEVENT
DTSTART;TZID=America/Toronto:20220217T183000
DTEND;TZID=America/Toronto:20220217T200000
DTSTAMP:20260419T143449
CREATED:20170919T150416Z
LAST-MODIFIED:20170919T150416Z
UID:15383-1645122600-1645128000@cpcorleans.ca
SUMMARY:CY
DESCRIPTION:CY – Community Youth
URL:https://cpcorleans.ca/event/the-exchange-youth-night-2021-02-11-2-2022-02-17/
LOCATION:CPC Orleans\, 1825 St. Joseph\, Ottawa\, Ontario\, Canada
CATEGORIES:Youth
END:VEVENT
BEGIN:VEVENT
DTSTART;TZID=America/Toronto:20220219T170000
DTEND;TZID=America/Toronto:20220219T190000
DTSTAMP:20260419T143449
CREATED:20190121T151534Z
LAST-MODIFIED:20200908T195858Z
UID:13027-1645290000-1645297200@cpcorleans.ca
SUMMARY:Spanish Service
DESCRIPTION:Join Pastor Luis in Room 109 for this service
URL:https://cpcorleans.ca/event/spanish-service-saturday-2022-02-19/
LOCATION:CPC Orleans\, 1825 St. Joseph\, Ottawa\, Ontario\, Canada
CATEGORIES:Spanish
END:VEVENT
BEGIN:VEVENT
DTSTART;TZID=America/Toronto:20220220T110000
DTEND;TZID=America/Toronto:20220220T120000
DTSTAMP:20260419T143449
CREATED:20160511T154502Z
LAST-MODIFIED:20160511T154502Z
UID:15835-1645354800-1645358400@cpcorleans.ca
SUMMARY:Sunday Worship Service
DESCRIPTION:Join us either in person or online for our worship service. If you our planning to attend in person please make sure to register before attending. Click the REGISTRATION button on the home page.
URL:https://cpcorleans.ca/event/morning-service-2022-02-20/
LOCATION:CPC Orleans\, 1825 St. Joseph\, Ottawa\, Ontario\, Canada
CATEGORIES:General
END:VEVENT
BEGIN:VEVENT
DTSTART;TZID=America/Toronto:20220223T103000
DTEND;TZID=America/Toronto:20220223T120000
DTSTAMP:20260419T143449
CREATED:20220216T144921Z
LAST-MODIFIED:20220216T144921Z
UID:16823-1645612200-1645617600@cpcorleans.ca
SUMMARY:The Well
DESCRIPTION:Ladies prayer & share taking place both In-Person & Online
URL:https://cpcorleans.ca/event/the-well-7-2022-02-23/
LOCATION:CPC Orleans\, 1825 St. Joseph\, Ottawa\, Ontario\, Canada
CATEGORIES:Ladies
END:VEVENT
BEGIN:VEVENT
DTSTART;TZID=America/Toronto:20220224T103000
DTEND;TZID=America/Toronto:20220224T120000
DTSTAMP:20260419T143449
CREATED:20220216T145831Z
LAST-MODIFIED:20220216T145831Z
UID:16845-1645698600-1645704000@cpcorleans.ca
SUMMARY:Seniors in Worship
DESCRIPTION:Join with Pastor Gordon and Linda Wood on the 2nd & 4th Thursdays of the month for a time of bible study and connecting together.
URL:https://cpcorleans.ca/event/seniors-in-worship-2022-02-24/
LOCATION:CPC Orleans\, 1825 St. Joseph\, Ottawa\, Ontario\, Canada
CATEGORIES:Seniors
END:VEVENT
BEGIN:VEVENT
DTSTART;TZID=America/Toronto:20220224T183000
DTEND;TZID=America/Toronto:20220224T200000
DTSTAMP:20260419T143449
CREATED:20170919T150416Z
LAST-MODIFIED:20170919T150416Z
UID:15384-1645727400-1645732800@cpcorleans.ca
SUMMARY:CY
DESCRIPTION:CY – Community Youth
URL:https://cpcorleans.ca/event/the-exchange-youth-night-2021-02-11-2-2022-02-24/
LOCATION:CPC Orleans\, 1825 St. Joseph\, Ottawa\, Ontario\, Canada
CATEGORIES:Youth
END:VEVENT
BEGIN:VEVENT
DTSTART;TZID=America/Toronto:20220226T170000
DTEND;TZID=America/Toronto:20220226T190000
DTSTAMP:20260419T143449
CREATED:20190121T151534Z
LAST-MODIFIED:20200908T195858Z
UID:13040-1645894800-1645902000@cpcorleans.ca
SUMMARY:Spanish Service
DESCRIPTION:Join Pastor Luis in Room 109 for this service
URL:https://cpcorleans.ca/event/spanish-service-saturday-2022-02-26/
LOCATION:CPC Orleans\, 1825 St. Joseph\, Ottawa\, Ontario\, Canada
CATEGORIES:Spanish
END:VEVENT
BEGIN:VEVENT
DTSTART;TZID=America/Toronto:20220227T110000
DTEND;TZID=America/Toronto:20220227T120000
DTSTAMP:20260419T143449
CREATED:20160511T154502Z
LAST-MODIFIED:20160511T154502Z
UID:15836-1645959600-1645963200@cpcorleans.ca
SUMMARY:Sunday Worship Service
DESCRIPTION:Join us either in person or online for our worship service. If you our planning to attend in person please make sure to register before attending. Click the REGISTRATION button on the home page.
URL:https://cpcorleans.ca/event/morning-service-2022-02-27/
LOCATION:CPC Orleans\, 1825 St. Joseph\, Ottawa\, Ontario\, Canada
CATEGORIES:General
END:VEVENT
BEGIN:VEVENT
DTSTART;VALUE=DATE:20220228
DTEND;VALUE=DATE:20220301
DTSTAMP:20260419T143449
CREATED:20160928T132920Z
LAST-MODIFIED:20160928T132920Z
UID:13043-1646006400-1646092799@cpcorleans.ca
SUMMARY:Blood Donor Clinic
DESCRIPTION:1:00pm – 3:30pm & 5:00pm – 8:00pm \nIn the Gym
URL:https://cpcorleans.ca/event/blood-donor-clinic-3-2022-02-28/
LOCATION:CPC Orleans\, 1825 St. Joseph\, Ottawa\, Ontario\, Canada
END:VEVENT
BEGIN:VEVENT
DTSTART;TZID=America/Toronto:20220301T190000
DTEND;TZID=America/Toronto:20220301T203000
DTSTAMP:20260419T143449
CREATED:20211005T135224Z
LAST-MODIFIED:20211005T135224Z
UID:17323-1646161200-1646166600@cpcorleans.ca
SUMMARY:iPray
DESCRIPTION:Join us every 2nd & fourth Tuesday at 7:00 PM for a time of intercessory prayer.
URL:https://cpcorleans.ca/event/ipray-2022-03-01/
LOCATION:CPC Orleans\, 1825 St. Joseph\, Ottawa\, Ontario\, Canada
CATEGORIES:Prayer
END:VEVENT
BEGIN:VEVENT
DTSTART;TZID=America/Toronto:20220302T103000
DTEND;TZID=America/Toronto:20220302T120000
DTSTAMP:20260419T143449
CREATED:20220216T144921Z
LAST-MODIFIED:20220216T144921Z
UID:16824-1646217000-1646222400@cpcorleans.ca
SUMMARY:The Well
DESCRIPTION:Ladies prayer & share taking place both In-Person & Online
URL:https://cpcorleans.ca/event/the-well-7-2022-03-02/
LOCATION:CPC Orleans\, 1825 St. Joseph\, Ottawa\, Ontario\, Canada
CATEGORIES:Ladies
END:VEVENT
BEGIN:VEVENT
DTSTART;TZID=America/Toronto:20220303T183000
DTEND;TZID=America/Toronto:20220303T200000
DTSTAMP:20260419T143449
CREATED:20170919T150416Z
LAST-MODIFIED:20170919T150416Z
UID:15385-1646332200-1646337600@cpcorleans.ca
SUMMARY:CY
DESCRIPTION:CY – Community Youth
URL:https://cpcorleans.ca/event/the-exchange-youth-night-2021-02-11-2-2022-03-03/
LOCATION:CPC Orleans\, 1825 St. Joseph\, Ottawa\, Ontario\, Canada
CATEGORIES:Youth
END:VEVENT
BEGIN:VEVENT
DTSTART;TZID=America/Toronto:20220305T170000
DTEND;TZID=America/Toronto:20220305T190000
DTSTAMP:20260419T143449
CREATED:20190121T151534Z
LAST-MODIFIED:20200908T195859Z
UID:13054-1646499600-1646506800@cpcorleans.ca
SUMMARY:Spanish Service
DESCRIPTION:Join Pastor Luis in Room 109 for this service
URL:https://cpcorleans.ca/event/spanish-service-saturday-2022-03-05/
LOCATION:CPC Orleans\, 1825 St. Joseph\, Ottawa\, Ontario\, Canada
CATEGORIES:Spanish
END:VEVENT
BEGIN:VEVENT
DTSTART;TZID=America/Toronto:20220306T110000
DTEND;TZID=America/Toronto:20220306T120000
DTSTAMP:20260419T143449
CREATED:20160511T154502Z
LAST-MODIFIED:20160511T154502Z
UID:15837-1646564400-1646568000@cpcorleans.ca
SUMMARY:Sunday Worship Service
DESCRIPTION:Join us either in person or online for our worship service. If you our planning to attend in person please make sure to register before attending. Click the REGISTRATION button on the home page.
URL:https://cpcorleans.ca/event/morning-service-2022-03-06/
LOCATION:CPC Orleans\, 1825 St. Joseph\, Ottawa\, Ontario\, Canada
CATEGORIES:General
END:VEVENT
BEGIN:VEVENT
DTSTART;TZID=America/Toronto:20220307T193000
DTEND;TZID=America/Toronto:20220307T210000
DTSTAMP:20260419T143449
CREATED:20220216T150456Z
LAST-MODIFIED:20220216T150456Z
UID:16866-1646681400-1646686800@cpcorleans.ca
SUMMARY:Membership Class
DESCRIPTION:For those interested in membership at CPC you can find more details or register HERE
URL:https://cpcorleans.ca/event/membership-class-5/
LOCATION:CPC Orleans\, 1825 St. Joseph\, Ottawa\, Ontario\, Canada
END:VEVENT
BEGIN:VEVENT
DTSTART;TZID=America/Toronto:20220309T103000
DTEND;TZID=America/Toronto:20220309T120000
DTSTAMP:20260419T143449
CREATED:20220216T144921Z
LAST-MODIFIED:20220216T144921Z
UID:16825-1646821800-1646827200@cpcorleans.ca
SUMMARY:The Well
DESCRIPTION:Ladies prayer & share taking place both In-Person & Online
URL:https://cpcorleans.ca/event/the-well-7-2022-03-09/
LOCATION:CPC Orleans\, 1825 St. Joseph\, Ottawa\, Ontario\, Canada
CATEGORIES:Ladies
END:VEVENT
BEGIN:VEVENT
DTSTART;TZID=America/Toronto:20220310T103000
DTEND;TZID=America/Toronto:20220310T120000
DTSTAMP:20260419T143449
CREATED:20220216T145831Z
LAST-MODIFIED:20220216T145831Z
UID:16846-1646908200-1646913600@cpcorleans.ca
SUMMARY:Seniors in Worship
DESCRIPTION:Join with Pastor Gordon and Linda Wood on the 2nd & 4th Thursdays of the month for a time of bible study and connecting together.
URL:https://cpcorleans.ca/event/seniors-in-worship-2022-03-10/
LOCATION:CPC Orleans\, 1825 St. Joseph\, Ottawa\, Ontario\, Canada
CATEGORIES:Seniors
END:VEVENT
BEGIN:VEVENT
DTSTART;TZID=America/Toronto:20220310T183000
DTEND;TZID=America/Toronto:20220310T200000
DTSTAMP:20260419T143449
CREATED:20170919T150416Z
LAST-MODIFIED:20170919T150416Z
UID:15386-1646937000-1646942400@cpcorleans.ca
SUMMARY:CY
DESCRIPTION:CY – Community Youth
URL:https://cpcorleans.ca/event/the-exchange-youth-night-2021-02-11-2-2022-03-10/
LOCATION:CPC Orleans\, 1825 St. Joseph\, Ottawa\, Ontario\, Canada
CATEGORIES:Youth
END:VEVENT
BEGIN:VEVENT
DTSTART;TZID=America/Toronto:20220312T170000
DTEND;TZID=America/Toronto:20220312T190000
DTSTAMP:20260419T143449
CREATED:20190121T151534Z
LAST-MODIFIED:20200908T195859Z
UID:13067-1647104400-1647111600@cpcorleans.ca
SUMMARY:Spanish Service
DESCRIPTION:Join Pastor Luis in Room 109 for this service
URL:https://cpcorleans.ca/event/spanish-service-saturday-2022-03-12/
LOCATION:CPC Orleans\, 1825 St. Joseph\, Ottawa\, Ontario\, Canada
CATEGORIES:Spanish
END:VEVENT
BEGIN:VEVENT
DTSTART;TZID=America/Toronto:20220313T110000
DTEND;TZID=America/Toronto:20220313T120000
DTSTAMP:20260419T143449
CREATED:20160511T154502Z
LAST-MODIFIED:20160511T154502Z
UID:15838-1647169200-1647172800@cpcorleans.ca
SUMMARY:Sunday Worship Service
DESCRIPTION:Join us either in person or online for our worship service. If you our planning to attend in person please make sure to register before attending. Click the REGISTRATION button on the home page.
URL:https://cpcorleans.ca/event/morning-service-2022-03-13/
LOCATION:CPC Orleans\, 1825 St. Joseph\, Ottawa\, Ontario\, Canada
CATEGORIES:General
END:VEVENT
BEGIN:VEVENT
DTSTART;TZID=America/Toronto:20220314T193000
DTEND;TZID=America/Toronto:20220314T210000
DTSTAMP:20260419T143449
CREATED:20220216T150456Z
LAST-MODIFIED:20220216T150456Z
UID:16868-1647286200-1647291600@cpcorleans.ca
SUMMARY:Membership Class
DESCRIPTION:For those interested in membership at CPC you can find more details or register HERE
URL:https://cpcorleans.ca/event/membership-class-5-2022-03-14/
LOCATION:CPC Orleans\, 1825 St. Joseph\, Ottawa\, Ontario\, Canada
END:VEVENT
BEGIN:VEVENT
DTSTART;TZID=America/Toronto:20220315T190000
DTEND;TZID=America/Toronto:20220315T203000
DTSTAMP:20260419T143449
CREATED:20211005T135224Z
LAST-MODIFIED:20211005T135224Z
UID:17324-1647370800-1647376200@cpcorleans.ca
SUMMARY:iPray
DESCRIPTION:Join us every 2nd & fourth Tuesday at 7:00 PM for a time of intercessory prayer.
URL:https://cpcorleans.ca/event/ipray-2022-03-15/
LOCATION:CPC Orleans\, 1825 St. Joseph\, Ottawa\, Ontario\, Canada
CATEGORIES:Prayer
END:VEVENT
BEGIN:VEVENT
DTSTART;TZID=America/Toronto:20220316T103000
DTEND;TZID=America/Toronto:20220316T120000
DTSTAMP:20260419T143449
CREATED:20220216T144921Z
LAST-MODIFIED:20220216T144921Z
UID:16826-1647426600-1647432000@cpcorleans.ca
SUMMARY:The Well
DESCRIPTION:Ladies prayer & share taking place both In-Person & Online
URL:https://cpcorleans.ca/event/the-well-7-2022-03-16/
LOCATION:CPC Orleans\, 1825 St. Joseph\, Ottawa\, Ontario\, Canada
CATEGORIES:Ladies
END:VEVENT
BEGIN:VEVENT
DTSTART;TZID=America/Toronto:20220317T183000
DTEND;TZID=America/Toronto:20220317T200000
DTSTAMP:20260419T143449
CREATED:20170919T150416Z
LAST-MODIFIED:20170919T150416Z
UID:15387-1647541800-1647547200@cpcorleans.ca
SUMMARY:CY
DESCRIPTION:CY – Community Youth
URL:https://cpcorleans.ca/event/the-exchange-youth-night-2021-02-11-2-2022-03-17/
LOCATION:CPC Orleans\, 1825 St. Joseph\, Ottawa\, Ontario\, Canada
CATEGORIES:Youth
END:VEVENT
BEGIN:VEVENT
DTSTART;TZID=America/Toronto:20220319T170000
DTEND;TZID=America/Toronto:20220319T190000
DTSTAMP:20260419T143449
CREATED:20190121T151534Z
LAST-MODIFIED:20200908T195859Z
UID:13111-1647709200-1647716400@cpcorleans.ca
SUMMARY:Spanish Service
DESCRIPTION:Join Pastor Luis in Room 109 for this service
URL:https://cpcorleans.ca/event/spanish-service-saturday-2022-03-19/
LOCATION:CPC Orleans\, 1825 St. Joseph\, Ottawa\, Ontario\, Canada
CATEGORIES:Spanish
END:VEVENT
BEGIN:VEVENT
DTSTART;TZID=America/Toronto:20220320T110000
DTEND;TZID=America/Toronto:20220320T120000
DTSTAMP:20260419T143449
CREATED:20160511T154502Z
LAST-MODIFIED:20160511T154502Z
UID:15839-1647774000-1647777600@cpcorleans.ca
SUMMARY:Sunday Worship Service
DESCRIPTION:Join us either in person or online for our worship service. If you our planning to attend in person please make sure to register before attending. Click the REGISTRATION button on the home page.
URL:https://cpcorleans.ca/event/morning-service-2022-03-20/
LOCATION:CPC Orleans\, 1825 St. Joseph\, Ottawa\, Ontario\, Canada
CATEGORIES:General
END:VEVENT
BEGIN:VEVENT
DTSTART;TZID=America/Toronto:20220321T193000
DTEND;TZID=America/Toronto:20220321T210000
DTSTAMP:20260419T143449
CREATED:20220216T150456Z
LAST-MODIFIED:20220216T150456Z
UID:16869-1647891000-1647896400@cpcorleans.ca
SUMMARY:Membership Class
DESCRIPTION:For those interested in membership at CPC you can find more details or register HERE
URL:https://cpcorleans.ca/event/membership-class-5-2022-03-21/
LOCATION:CPC Orleans\, 1825 St. Joseph\, Ottawa\, Ontario\, Canada
END:VEVENT
END:VCALENDAR