BEGIN:VCALENDAR
VERSION:2.0
PRODID:-//CPC Orleans - ECPv6.1.3//NONSGML v1.0//EN
CALSCALE:GREGORIAN
METHOD:PUBLISH
X-WR-CALNAME:CPC Orleans
X-ORIGINAL-URL:https://cpcorleans.ca
X-WR-CALDESC:Events for CPC Orleans
REFRESH-INTERVAL;VALUE=DURATION:PT1H
X-Robots-Tag:noindex
X-PUBLISHED-TTL:PT1H
BEGIN:VTIMEZONE
TZID:America/Toronto
BEGIN:DAYLIGHT
TZOFFSETFROM:-0500
TZOFFSETTO:-0400
TZNAME:EDT
DTSTART:20190310T070000
END:DAYLIGHT
BEGIN:STANDARD
TZOFFSETFROM:-0400
TZOFFSETTO:-0500
TZNAME:EST
DTSTART:20191103T060000
END:STANDARD
END:VTIMEZONE
BEGIN:VEVENT
DTSTART;TZID=America/Toronto:20191130T170000
DTEND;TZID=America/Toronto:20191130T190000
DTSTAMP:20260422T072728
CREATED:20191029T153357Z
LAST-MODIFIED:20191029T153357Z
UID:12297-1575133200-1575140400@cpcorleans.ca
SUMMARY:Orléans Parade of Lights
DESCRIPTION:
URL:https://cpcorleans.ca/event/orleans-parade-of-lights/
LOCATION:CPC Orleans\, 1825 St. Joseph\, Ottawa\, Ontario\, Canada
END:VEVENT
BEGIN:VEVENT
DTSTART;TZID=America/Toronto:20191124T120000
DTEND;TZID=America/Toronto:20191124T133000
DTSTAMP:20260422T072728
CREATED:20191029T144849Z
LAST-MODIFIED:20191029T144849Z
UID:12290-1574596800-1574602200@cpcorleans.ca
SUMMARY:Taste of the Nations
DESCRIPTION:
URL:https://cpcorleans.ca/event/taste-of-the-nations/
LOCATION:CPC Orleans\, 1825 St. Joseph\, Ottawa\, Ontario\, Canada
END:VEVENT
BEGIN:VEVENT
DTSTART;TZID=America/Toronto:20191121T110000
DTEND;TZID=America/Toronto:20191121T130000
DTSTAMP:20260422T072728
CREATED:20191029T153146Z
LAST-MODIFIED:20191029T153146Z
UID:12295-1574334000-1574341200@cpcorleans.ca
SUMMARY:Community Chapel
DESCRIPTION:A service geared for the 55+
URL:https://cpcorleans.ca/event/community-chapel-3/
LOCATION:CPC Orleans\, 1825 St. Joseph\, Ottawa\, Ontario\, Canada
END:VEVENT
BEGIN:VEVENT
DTSTART;TZID=America/Toronto:20191117T180000
DTEND;TZID=America/Toronto:20191117T190000
DTSTAMP:20260422T072728
CREATED:20191029T144703Z
LAST-MODIFIED:20191029T144703Z
UID:12288-1574013600-1574017200@cpcorleans.ca
SUMMARY:Surge Prayer (For the Nations)
DESCRIPTION:An all church prayer meeting with a missions focus.
URL:https://cpcorleans.ca/event/surge-prayer-for-the-nations/
LOCATION:CPC Orleans\, 1825 St. Joseph\, Ottawa\, Ontario\, Canada
END:VEVENT
BEGIN:VEVENT
DTSTART;VALUE=DATE:20191117
DTEND;VALUE=DATE:20191118
DTSTAMP:20260422T072728
CREATED:20191029T143855Z
LAST-MODIFIED:20191029T143855Z
UID:12286-1573948800-1574035199@cpcorleans.ca
SUMMARY:Christmas Shoeboxes Return
DESCRIPTION:
URL:https://cpcorleans.ca/event/christmas-shoeboxes-return/
LOCATION:CPC Orleans\, 1825 St. Joseph\, Ottawa\, Ontario\, Canada
END:VEVENT
BEGIN:VEVENT
DTSTART;TZID=America/Toronto:20191112T190000
DTEND;TZID=America/Toronto:20191112T210000
DTSTAMP:20260422T072728
CREATED:20191029T151501Z
LAST-MODIFIED:20191029T151501Z
UID:12293-1573585200-1573592400@cpcorleans.ca
SUMMARY:Young Adults Service
DESCRIPTION:
URL:https://cpcorleans.ca/event/young-adults-service/
LOCATION:CPC Orleans\, 1825 St. Joseph\, Ottawa\, Ontario\, Canada
END:VEVENT
BEGIN:VEVENT
DTSTART;TZID=America/Toronto:20191110T103000
DTEND;TZID=America/Toronto:20191110T120000
DTSTAMP:20260422T072728
CREATED:20160511T154502Z
LAST-MODIFIED:20191029T145310Z
UID:6984-1573381800-1573387200@cpcorleans.ca
SUMMARY:Morning Service (Remembrance Day)
DESCRIPTION:Sunday church service\n9:45 Pre-Service Prayer
URL:https://cpcorleans.ca/event/morning-service-2019-11-10/
LOCATION:CPC Orleans\, 1825 St. Joseph\, Ottawa\, Ontario\, Canada
CATEGORIES:General
END:VEVENT
BEGIN:VEVENT
DTSTART;TZID=America/Toronto:20191027T183000
DTEND;TZID=America/Toronto:20191027T200000
DTSTAMP:20260422T072728
CREATED:20191029T142051Z
LAST-MODIFIED:20191029T142051Z
UID:12274-1572201000-1572206400@cpcorleans.ca
SUMMARY:Membership Class
DESCRIPTION:
URL:https://cpcorleans.ca/event/membership-class-2/
LOCATION:CPC Orleans\, 1825 St. Joseph\, Ottawa\, Ontario\, Canada
END:VEVENT
BEGIN:VEVENT
DTSTART;TZID=America/Toronto:20191001T060000
DTEND;TZID=America/Toronto:20191001T070000
DTSTAMP:20260422T072728
CREATED:20190806T180723Z
LAST-MODIFIED:20190806T180723Z
UID:11876-1569909600-1569913200@cpcorleans.ca
SUMMARY:FORE Prayer
DESCRIPTION:
URL:https://cpcorleans.ca/event/fore-prayer-4/
LOCATION:CPC Orleans\, 1825 St. Joseph\, Ottawa\, Ontario\, Canada
CATEGORIES:Prayer
END:VEVENT
BEGIN:VEVENT
DTSTART;TZID=America/Toronto:20190925T080000
DTEND;TZID=America/Toronto:20190925T170000
DTSTAMP:20260422T072728
CREATED:20191029T143432Z
LAST-MODIFIED:20191029T143432Z
UID:12278-1569398400-1569430800@cpcorleans.ca
SUMMARY:Women's Bible Study
DESCRIPTION:
URL:https://cpcorleans.ca/event/womens-bible-study-2/
LOCATION:CPC Orleans\, 1825 St. Joseph\, Ottawa\, Ontario\, Canada
END:VEVENT
BEGIN:VEVENT
DTSTART;TZID=America/Toronto:20190923T190000
DTEND;TZID=America/Toronto:20190923T210000
DTSTAMP:20260422T072728
CREATED:20191029T141357Z
LAST-MODIFIED:20191029T141357Z
UID:12262-1569265200-1569272400@cpcorleans.ca
SUMMARY:Community School of the Bible
DESCRIPTION:
URL:https://cpcorleans.ca/event/community-school-of-the-bible-2/
LOCATION:CPC Orleans\, 1825 St. Joseph\, Ottawa\, Ontario\, Canada
END:VEVENT
BEGIN:VEVENT
DTSTART;TZID=America/Toronto:20190917T080000
DTEND;TZID=America/Toronto:20190917T090000
DTSTAMP:20260422T072728
CREATED:20190806T180521Z
LAST-MODIFIED:20200206T144017Z
UID:11842-1568707200-1568710800@cpcorleans.ca
SUMMARY:Morning Prayer
DESCRIPTION:
URL:https://cpcorleans.ca/event/early-morning-prayer-2/
LOCATION:CPC Orleans\, 1825 St. Joseph\, Ottawa\, Ontario\, Canada
CATEGORIES:Prayer
END:VEVENT
BEGIN:VEVENT
DTSTART;TZID=America/Toronto:20190911T183000
DTEND;TZID=America/Toronto:20190911T200000
DTSTAMP:20260422T072728
CREATED:20190806T181906Z
LAST-MODIFIED:20190806T181906Z
UID:11929-1568226600-1568232000@cpcorleans.ca
SUMMARY:Kids Central & NRG Jr. Highs
DESCRIPTION:
URL:https://cpcorleans.ca/event/kids-central-nrg-jr-highs/
LOCATION:CPC Orleans\, 1825 St. Joseph\, Ottawa\, Ontario\, Canada
CATEGORIES:Childrens Events,Youth
END:VEVENT
BEGIN:VEVENT
DTSTART;TZID=America/Toronto:20190911T093000
DTEND;TZID=America/Toronto:20190911T120000
DTSTAMP:20260422T072728
CREATED:20190806T181415Z
LAST-MODIFIED:20190806T181415Z
UID:11888-1568194200-1568203200@cpcorleans.ca
SUMMARY:The Well
DESCRIPTION:Ladies Prayer & Share
URL:https://cpcorleans.ca/event/the-well-4/
LOCATION:CPC Orleans\, 1825 St. Joseph\, Ottawa\, Ontario\, Canada
CATEGORIES:Ladies
END:VEVENT
BEGIN:VEVENT
DTSTART;TZID=America/Toronto:20190910T060000
DTEND;TZID=America/Toronto:20190910T070000
DTSTAMP:20260422T072728
CREATED:20190806T180258Z
LAST-MODIFIED:20190806T180258Z
UID:11840-1568095200-1568098800@cpcorleans.ca
SUMMARY:FORE Prayer
DESCRIPTION:
URL:https://cpcorleans.ca/event/fore-prayer-3/
LOCATION:CPC Orleans\, 1825 St. Joseph\, Ottawa\, Ontario\, Canada
CATEGORIES:Prayer
END:VEVENT
BEGIN:VEVENT
DTSTART;TZID=America/Toronto:20190908T103000
DTEND;TZID=America/Toronto:20190908T120000
DTSTAMP:20260422T072728
CREATED:20160511T154502Z
LAST-MODIFIED:20190605T191650Z
UID:6260-1567938600-1567944000@cpcorleans.ca
SUMMARY:Homecoming Sunday
DESCRIPTION:Sunday church service\n9:45 Pre-Service Prayer
URL:https://cpcorleans.ca/event/morning-service-2019-09-08/
LOCATION:CPC Orleans\, 1825 St. Joseph\, Ottawa\, Ontario\, Canada
CATEGORIES:Family,General
END:VEVENT
BEGIN:VEVENT
DTSTART;VALUE=DATE:20190906
DTEND;VALUE=DATE:20190907
DTSTAMP:20260422T072728
CREATED:20191029T172724Z
LAST-MODIFIED:20191029T173159Z
UID:12300-1567728000-1567814399@cpcorleans.ca
SUMMARY:Adult Day Program (EROC)
DESCRIPTION:
URL:https://cpcorleans.ca/event/adult-day-program-eroc/
LOCATION:CPC Orleans\, 1825 St. Joseph\, Ottawa\, Ontario\, Canada
END:VEVENT
BEGIN:VEVENT
DTSTART;TZID=America/Toronto:20190903T180000
DTEND;TZID=America/Toronto:20190903T210000
DTSTAMP:20260422T072728
CREATED:20190806T182331Z
LAST-MODIFIED:20190806T182331Z
UID:11966-1567533600-1567544400@cpcorleans.ca
SUMMARY:Sewing Classes
DESCRIPTION:
URL:https://cpcorleans.ca/event/sewing-classes/
LOCATION:CPC Orleans\, 1825 St. Joseph\, Ottawa\, Ontario\, Canada
END:VEVENT
BEGIN:VEVENT
DTSTART;VALUE=DATE:20190902
DTEND;VALUE=DATE:20190903
DTSTAMP:20260422T072728
CREATED:20190806T181015Z
LAST-MODIFIED:20190806T181015Z
UID:11886-1567382400-1567468799@cpcorleans.ca
SUMMARY:Office Closed
DESCRIPTION:Labour Day
URL:https://cpcorleans.ca/event/office-closed-4/
LOCATION:CPC Orleans\, 1825 St. Joseph\, Ottawa\, Ontario\, Canada
CATEGORIES:General
END:VEVENT
BEGIN:VEVENT
DTSTART;VALUE=DATE:20190819
DTEND;VALUE=DATE:20190820
DTSTAMP:20260422T072728
CREATED:20160928T132920Z
LAST-MODIFIED:20190712T030439Z
UID:6228-1566172800-1566259199@cpcorleans.ca
SUMMARY:Blood Donor Clinic
DESCRIPTION:1:00pm – 3:30pm & 5:00pm – 8:00pm \nIn the Gym
URL:https://cpcorleans.ca/event/blood-donor-clinic-3-2019-08-26/
LOCATION:CPC Orleans\, 1825 St. Joseph\, Ottawa\, Ontario\, Canada
END:VEVENT
BEGIN:VEVENT
DTSTART;VALUE=DATE:20190805
DTEND;VALUE=DATE:20190806
DTSTAMP:20260422T072728
CREATED:20190712T030600Z
LAST-MODIFIED:20190712T030600Z
UID:11683-1564963200-1565049599@cpcorleans.ca
SUMMARY:Office Closed
DESCRIPTION:Civic Holiday
URL:https://cpcorleans.ca/event/office-closed-3/
LOCATION:CPC Orleans\, 1825 St. Joseph\, Ottawa\, Ontario\, Canada
END:VEVENT
BEGIN:VEVENT
DTSTART;TZID=America/Toronto:20190722T090000
DTEND;TZID=America/Toronto:20190722T150000
DTSTAMP:20260422T072728
CREATED:20190121T164716Z
LAST-MODIFIED:20190121T164716Z
UID:10554-1563786000-1563807600@cpcorleans.ca
SUMMARY:Arts Camp
DESCRIPTION:
URL:https://cpcorleans.ca/event/arts-camp-2/
LOCATION:CPC Orleans\, 1825 St. Joseph\, Ottawa\, Ontario\, Canada
CATEGORIES:Childrens Events
END:VEVENT
BEGIN:VEVENT
DTSTART;TZID=America/Toronto:20190708T090000
DTEND;TZID=America/Toronto:20190708T120000
DTSTAMP:20260422T072728
CREATED:20190121T164915Z
LAST-MODIFIED:20190605T190752Z
UID:10560-1562576400-1562587200@cpcorleans.ca
SUMMARY:VBS
DESCRIPTION:
URL:https://cpcorleans.ca/event/vbs-2/
LOCATION:CPC Orleans\, 1825 St. Joseph\, Ottawa\, Ontario\, Canada
CATEGORIES:Childrens Events
END:VEVENT
BEGIN:VEVENT
DTSTART;TZID=America/Toronto:20190703T190000
DTEND;TZID=America/Toronto:20190703T210000
DTSTAMP:20260422T072728
CREATED:20190712T030148Z
LAST-MODIFIED:20190806T175823Z
UID:11662-1562180400-1562187600@cpcorleans.ca
SUMMARY:CY
DESCRIPTION:
URL:https://cpcorleans.ca/event/cy/
LOCATION:CPC Orleans\, 1825 St. Joseph\, Ottawa\, Ontario\, Canada
CATEGORIES:Youth
END:VEVENT
BEGIN:VEVENT
DTSTART;VALUE=DATE:20190701
DTEND;VALUE=DATE:20190702
DTSTAMP:20260422T072728
CREATED:20190605T190550Z
LAST-MODIFIED:20190605T190550Z
UID:11352-1561939200-1562025599@cpcorleans.ca
SUMMARY:Office Closed
DESCRIPTION:Canada Day
URL:https://cpcorleans.ca/event/office-closed-2/
LOCATION:CPC Orleans\, 1825 St. Joseph\, Ottawa\, Ontario\, Canada
END:VEVENT
BEGIN:VEVENT
DTSTART;TZID=America/Toronto:20190630T103000
DTEND;TZID=America/Toronto:20190630T120000
DTSTAMP:20260422T072728
CREATED:20160511T154502Z
LAST-MODIFIED:20190605T191155Z
UID:6120-1561890600-1561896000@cpcorleans.ca
SUMMARY:Morning Service
DESCRIPTION:Community Collective\n9:45 Pre-Service Prayer
URL:https://cpcorleans.ca/event/morning-service-2019-06-30/
LOCATION:CPC Orleans\, 1825 St. Joseph\, Ottawa\, Ontario\, Canada
CATEGORIES:General
END:VEVENT
BEGIN:VEVENT
DTSTART;TZID=America/Toronto:20190625T190000
DTEND;TZID=America/Toronto:20190625T210000
DTSTAMP:20260422T072728
CREATED:20160928T135030Z
LAST-MODIFIED:20190712T025429Z
UID:6106-1561489200-1561496400@cpcorleans.ca
SUMMARY:Men's Prayer
DESCRIPTION:
URL:https://cpcorleans.ca/event/mens-prayer-2019-06-25/
LOCATION:CPC Orleans\, 1825 St. Joseph\, Ottawa\, Ontario\, Canada
CATEGORIES:Prayer
END:VEVENT
BEGIN:VEVENT
DTSTART;TZID=America/Toronto:20190619T103000
DTEND;TZID=America/Toronto:20190619T120000
DTSTAMP:20260422T072728
CREATED:20190121T161451Z
LAST-MODIFIED:20190605T190210Z
UID:10323-1560940200-1560945600@cpcorleans.ca
SUMMARY:The Well
DESCRIPTION:Ladies Prayer & Share \nThis year end event will be taking place at St. Huberts
URL:https://cpcorleans.ca/event/the-well-3-2019-06-19/
LOCATION:CPC Orleans\, 1825 St. Joseph\, Ottawa\, Ontario\, Canada
CATEGORIES:Ladies
END:VEVENT
BEGIN:VEVENT
DTSTART;TZID=America/Toronto:20190601T080000
DTEND;TZID=America/Toronto:20190601T170000
DTSTAMP:20260422T072728
CREATED:20190121T165600Z
LAST-MODIFIED:20190121T165600Z
UID:10566-1559376000-1559408400@cpcorleans.ca
SUMMARY:The Big Give/ Block Party
DESCRIPTION:
URL:https://cpcorleans.ca/event/the-big-give-block-party/
LOCATION:CPC Orleans\, 1825 St. Joseph\, Ottawa\, Ontario\, Canada
END:VEVENT
BEGIN:VEVENT
DTSTART;TZID=America/Toronto:20190513T190000
DTEND;TZID=America/Toronto:20190513T203000
DTSTAMP:20260422T072728
CREATED:20190509T180816Z
LAST-MODIFIED:20190509T180817Z
UID:11051-1557774000-1557779400@cpcorleans.ca
SUMMARY:Digital Legacy Seminar
DESCRIPTION:Here are the resources\nDigital Legacy
URL:https://cpcorleans.ca/event/digital-legacy-seminar/
LOCATION:CPC Orleans\, 1825 St. Joseph\, Ottawa\, Ontario\, Canada
END:VEVENT
END:VCALENDAR