BEGIN:VCALENDAR
VERSION:2.0
PRODID:-//CPC Orleans - ECPv6.1.3//NONSGML v1.0//EN
CALSCALE:GREGORIAN
METHOD:PUBLISH
X-ORIGINAL-URL:https://cpcorleans.ca
X-WR-CALDESC:Events for CPC Orleans
REFRESH-INTERVAL;VALUE=DURATION:PT1H
X-Robots-Tag:noindex
X-PUBLISHED-TTL:PT1H
BEGIN:VTIMEZONE
TZID:America/Toronto
BEGIN:DAYLIGHT
TZOFFSETFROM:-0500
TZOFFSETTO:-0400
TZNAME:EDT
DTSTART:20220313T070000
END:DAYLIGHT
BEGIN:STANDARD
TZOFFSETFROM:-0400
TZOFFSETTO:-0500
TZNAME:EST
DTSTART:20221106T060000
END:STANDARD
END:VTIMEZONE
BEGIN:VEVENT
DTSTART;VALUE=DATE:20220711
DTEND;VALUE=DATE:20220716
DTSTAMP:20260419T193053
CREATED:20220520T171833Z
LAST-MODIFIED:20220520T171833Z
UID:17332-1657497600-1657929599@cpcorleans.ca
SUMMARY:Community Kids - Summer Camp
DESCRIPTION:We are offering a Summer Day Camp for kids who are currently in JK up to Grade 5. The camp runs from 9:00 am to 4:00pm. The cost of the camp is $75/camper. If you require financial assistance\, please contact Pastor Carter at cmachin@cpcorleans.ca \nWe’ve got tons of fun age appropriate activities to keep our campers busy. Hilarious games\, Bible stories\, crafts\, outdoor play\, inflatables; these are just some of the things your child will experience this week. Kids need to bring lunch/snacks/drinks (all nut free) for the day. \nREGISTER
URL:https://cpcorleans.ca/event/community-kids-summer-camp/
LOCATION:CPC Orleans\, 1825 St. Joseph\, Ottawa\, Ontario\, Canada
CATEGORIES:Childrens Events
END:VEVENT
BEGIN:VEVENT
DTSTART;TZID=America/Toronto:20220714T183000
DTEND;TZID=America/Toronto:20220714T200000
DTSTAMP:20260419T193053
CREATED:20170919T150416Z
LAST-MODIFIED:20170919T150416Z
UID:15404-1657823400-1657828800@cpcorleans.ca
SUMMARY:CY
DESCRIPTION:CY – Community Youth
URL:https://cpcorleans.ca/event/the-exchange-youth-night-2021-02-11-2-2022-07-14/
LOCATION:CPC Orleans\, 1825 St. Joseph\, Ottawa\, Ontario\, Canada
CATEGORIES:Youth
END:VEVENT
BEGIN:VEVENT
DTSTART;TZID=America/Toronto:20220716T170000
DTEND;TZID=America/Toronto:20220716T190000
DTSTAMP:20260419T193053
CREATED:20190121T151534Z
LAST-MODIFIED:20200908T195913Z
UID:13501-1657990800-1657998000@cpcorleans.ca
SUMMARY:Spanish Service
DESCRIPTION:Join Pastor Luis in Room 109 for this service
URL:https://cpcorleans.ca/event/spanish-service-saturday-2022-07-16/
LOCATION:CPC Orleans\, 1825 St. Joseph\, Ottawa\, Ontario\, Canada
CATEGORIES:Spanish
END:VEVENT
BEGIN:VEVENT
DTSTART;TZID=America/Toronto:20220717T110000
DTEND;TZID=America/Toronto:20220717T120000
DTSTAMP:20260419T193053
CREATED:20220414T140952Z
LAST-MODIFIED:20220414T140952Z
UID:17177-1658055600-1658059200@cpcorleans.ca
SUMMARY:Sunday Morning Service
DESCRIPTION:Join us In-Person or Online
URL:https://cpcorleans.ca/event/sunday-morning-service-2022-07-17/
LOCATION:CPC Orleans\, 1825 St. Joseph\, Ottawa\, Ontario\, Canada
CATEGORIES:General
END:VEVENT
BEGIN:VEVENT
DTSTART;TZID=America/Toronto:20220721T183000
DTEND;TZID=America/Toronto:20220721T200000
DTSTAMP:20260419T193053
CREATED:20170919T150416Z
LAST-MODIFIED:20170919T150416Z
UID:15405-1658428200-1658433600@cpcorleans.ca
SUMMARY:CY
DESCRIPTION:CY – Community Youth
URL:https://cpcorleans.ca/event/the-exchange-youth-night-2021-02-11-2-2022-07-21/
LOCATION:CPC Orleans\, 1825 St. Joseph\, Ottawa\, Ontario\, Canada
CATEGORIES:Youth
END:VEVENT
BEGIN:VEVENT
DTSTART;TZID=America/Toronto:20220723T170000
DTEND;TZID=America/Toronto:20220723T190000
DTSTAMP:20260419T193053
CREATED:20190121T151534Z
LAST-MODIFIED:20200908T195914Z
UID:13518-1658595600-1658602800@cpcorleans.ca
SUMMARY:Spanish Service
DESCRIPTION:Join Pastor Luis in Room 109 for this service
URL:https://cpcorleans.ca/event/spanish-service-saturday-2022-07-23/
LOCATION:CPC Orleans\, 1825 St. Joseph\, Ottawa\, Ontario\, Canada
CATEGORIES:Spanish
END:VEVENT
BEGIN:VEVENT
DTSTART;TZID=America/Toronto:20220724T110000
DTEND;TZID=America/Toronto:20220724T120000
DTSTAMP:20260419T193053
CREATED:20220414T140952Z
LAST-MODIFIED:20220414T140952Z
UID:17178-1658660400-1658664000@cpcorleans.ca
SUMMARY:Sunday Morning Service
DESCRIPTION:Join us In-Person or Online
URL:https://cpcorleans.ca/event/sunday-morning-service-2022-07-24/
LOCATION:CPC Orleans\, 1825 St. Joseph\, Ottawa\, Ontario\, Canada
CATEGORIES:General
END:VEVENT
BEGIN:VEVENT
DTSTART;TZID=America/Toronto:20220728T183000
DTEND;TZID=America/Toronto:20220728T200000
DTSTAMP:20260419T193053
CREATED:20170919T150416Z
LAST-MODIFIED:20170919T150416Z
UID:15406-1659033000-1659038400@cpcorleans.ca
SUMMARY:CY
DESCRIPTION:CY – Community Youth
URL:https://cpcorleans.ca/event/the-exchange-youth-night-2021-02-11-2-2022-07-28/
LOCATION:CPC Orleans\, 1825 St. Joseph\, Ottawa\, Ontario\, Canada
CATEGORIES:Youth
END:VEVENT
BEGIN:VEVENT
DTSTART;TZID=America/Toronto:20220730T170000
DTEND;TZID=America/Toronto:20220730T190000
DTSTAMP:20260419T193053
CREATED:20190121T151534Z
LAST-MODIFIED:20200908T195914Z
UID:13708-1659200400-1659207600@cpcorleans.ca
SUMMARY:Spanish Service
DESCRIPTION:Join Pastor Luis in Room 109 for this service
URL:https://cpcorleans.ca/event/spanish-service-saturday-2022-07-30/
LOCATION:CPC Orleans\, 1825 St. Joseph\, Ottawa\, Ontario\, Canada
CATEGORIES:Spanish
END:VEVENT
BEGIN:VEVENT
DTSTART;TZID=America/Toronto:20220731T110000
DTEND;TZID=America/Toronto:20220731T120000
DTSTAMP:20260419T193053
CREATED:20220414T140952Z
LAST-MODIFIED:20220414T140952Z
UID:17179-1659265200-1659268800@cpcorleans.ca
SUMMARY:Sunday Morning Service
DESCRIPTION:Join us In-Person or Online
URL:https://cpcorleans.ca/event/sunday-morning-service-2022-07-31/
LOCATION:CPC Orleans\, 1825 St. Joseph\, Ottawa\, Ontario\, Canada
CATEGORIES:General
END:VEVENT
BEGIN:VEVENT
DTSTART;TZID=America/Toronto:20220804T183000
DTEND;TZID=America/Toronto:20220804T200000
DTSTAMP:20260419T193053
CREATED:20170919T150416Z
LAST-MODIFIED:20170919T150416Z
UID:15407-1659637800-1659643200@cpcorleans.ca
SUMMARY:CY
DESCRIPTION:CY – Community Youth
URL:https://cpcorleans.ca/event/the-exchange-youth-night-2021-02-11-2-2022-08-04/
LOCATION:CPC Orleans\, 1825 St. Joseph\, Ottawa\, Ontario\, Canada
CATEGORIES:Youth
END:VEVENT
BEGIN:VEVENT
DTSTART;TZID=America/Toronto:20220806T170000
DTEND;TZID=America/Toronto:20220806T190000
DTSTAMP:20260419T193053
CREATED:20190121T151534Z
LAST-MODIFIED:20200908T195915Z
UID:13723-1659805200-1659812400@cpcorleans.ca
SUMMARY:Spanish Service
DESCRIPTION:Join Pastor Luis in Room 109 for this service
URL:https://cpcorleans.ca/event/spanish-service-saturday-2022-08-06/
LOCATION:CPC Orleans\, 1825 St. Joseph\, Ottawa\, Ontario\, Canada
CATEGORIES:Spanish
END:VEVENT
BEGIN:VEVENT
DTSTART;TZID=America/Toronto:20220807T110000
DTEND;TZID=America/Toronto:20220807T120000
DTSTAMP:20260419T193053
CREATED:20220414T140952Z
LAST-MODIFIED:20220414T140952Z
UID:17180-1659870000-1659873600@cpcorleans.ca
SUMMARY:Sunday Morning Service
DESCRIPTION:Join us In-Person or Online
URL:https://cpcorleans.ca/event/sunday-morning-service-2022-08-07/
LOCATION:CPC Orleans\, 1825 St. Joseph\, Ottawa\, Ontario\, Canada
CATEGORIES:General
END:VEVENT
BEGIN:VEVENT
DTSTART;TZID=America/Toronto:20220811T183000
DTEND;TZID=America/Toronto:20220811T200000
DTSTAMP:20260419T193053
CREATED:20170919T150416Z
LAST-MODIFIED:20170919T150416Z
UID:15408-1660242600-1660248000@cpcorleans.ca
SUMMARY:CY
DESCRIPTION:CY – Community Youth
URL:https://cpcorleans.ca/event/the-exchange-youth-night-2021-02-11-2-2022-08-11/
LOCATION:CPC Orleans\, 1825 St. Joseph\, Ottawa\, Ontario\, Canada
CATEGORIES:Youth
END:VEVENT
BEGIN:VEVENT
DTSTART;TZID=America/Toronto:20220813T170000
DTEND;TZID=America/Toronto:20220813T190000
DTSTAMP:20260419T193053
CREATED:20190121T151534Z
LAST-MODIFIED:20200908T195915Z
UID:13735-1660410000-1660417200@cpcorleans.ca
SUMMARY:Spanish Service
DESCRIPTION:Join Pastor Luis in Room 109 for this service
URL:https://cpcorleans.ca/event/spanish-service-saturday-2022-08-13/
LOCATION:CPC Orleans\, 1825 St. Joseph\, Ottawa\, Ontario\, Canada
CATEGORIES:Spanish
END:VEVENT
BEGIN:VEVENT
DTSTART;TZID=America/Toronto:20220814T110000
DTEND;TZID=America/Toronto:20220814T120000
DTSTAMP:20260419T193053
CREATED:20220414T140952Z
LAST-MODIFIED:20220414T140952Z
UID:17181-1660474800-1660478400@cpcorleans.ca
SUMMARY:Sunday Morning Service
DESCRIPTION:Join us In-Person or Online
URL:https://cpcorleans.ca/event/sunday-morning-service-2022-08-14/
LOCATION:CPC Orleans\, 1825 St. Joseph\, Ottawa\, Ontario\, Canada
CATEGORIES:General
END:VEVENT
BEGIN:VEVENT
DTSTART;TZID=America/Toronto:20220818T183000
DTEND;TZID=America/Toronto:20220818T200000
DTSTAMP:20260419T193053
CREATED:20170919T150416Z
LAST-MODIFIED:20170919T150416Z
UID:15409-1660847400-1660852800@cpcorleans.ca
SUMMARY:CY
DESCRIPTION:CY – Community Youth
URL:https://cpcorleans.ca/event/the-exchange-youth-night-2021-02-11-2-2022-08-18/
LOCATION:CPC Orleans\, 1825 St. Joseph\, Ottawa\, Ontario\, Canada
CATEGORIES:Youth
END:VEVENT
BEGIN:VEVENT
DTSTART;TZID=America/Toronto:20220820T170000
DTEND;TZID=America/Toronto:20220820T190000
DTSTAMP:20260419T193053
CREATED:20190121T151534Z
LAST-MODIFIED:20200908T195915Z
UID:13757-1661014800-1661022000@cpcorleans.ca
SUMMARY:Spanish Service
DESCRIPTION:Join Pastor Luis in Room 109 for this service
URL:https://cpcorleans.ca/event/spanish-service-saturday-2022-08-20/
LOCATION:CPC Orleans\, 1825 St. Joseph\, Ottawa\, Ontario\, Canada
CATEGORIES:Spanish
END:VEVENT
BEGIN:VEVENT
DTSTART;TZID=America/Toronto:20220821T110000
DTEND;TZID=America/Toronto:20220821T120000
DTSTAMP:20260419T193053
CREATED:20220414T140952Z
LAST-MODIFIED:20220414T140952Z
UID:17182-1661079600-1661083200@cpcorleans.ca
SUMMARY:Sunday Morning Service
DESCRIPTION:Join us In-Person or Online
URL:https://cpcorleans.ca/event/sunday-morning-service-2022-08-21/
LOCATION:CPC Orleans\, 1825 St. Joseph\, Ottawa\, Ontario\, Canada
CATEGORIES:General
END:VEVENT
BEGIN:VEVENT
DTSTART;TZID=America/Toronto:20220825T183000
DTEND;TZID=America/Toronto:20220825T200000
DTSTAMP:20260419T193053
CREATED:20170919T150416Z
LAST-MODIFIED:20170919T150416Z
UID:15410-1661452200-1661457600@cpcorleans.ca
SUMMARY:CY
DESCRIPTION:CY – Community Youth
URL:https://cpcorleans.ca/event/the-exchange-youth-night-2021-02-11-2-2022-08-25/
LOCATION:CPC Orleans\, 1825 St. Joseph\, Ottawa\, Ontario\, Canada
CATEGORIES:Youth
END:VEVENT
BEGIN:VEVENT
DTSTART;TZID=America/Toronto:20220827T170000
DTEND;TZID=America/Toronto:20220827T190000
DTSTAMP:20260419T193053
CREATED:20190121T151534Z
LAST-MODIFIED:20200908T195916Z
UID:13782-1661619600-1661626800@cpcorleans.ca
SUMMARY:Spanish Service
DESCRIPTION:Join Pastor Luis in Room 109 for this service
URL:https://cpcorleans.ca/event/spanish-service-saturday-2022-08-27/
LOCATION:CPC Orleans\, 1825 St. Joseph\, Ottawa\, Ontario\, Canada
CATEGORIES:Spanish
END:VEVENT
BEGIN:VEVENT
DTSTART;TZID=America/Toronto:20220828T110000
DTEND;TZID=America/Toronto:20220828T120000
DTSTAMP:20260419T193053
CREATED:20220414T140952Z
LAST-MODIFIED:20220414T140952Z
UID:17183-1661684400-1661688000@cpcorleans.ca
SUMMARY:Sunday Morning Service
DESCRIPTION:Join us In-Person or Online
URL:https://cpcorleans.ca/event/sunday-morning-service-2022-08-28/
LOCATION:CPC Orleans\, 1825 St. Joseph\, Ottawa\, Ontario\, Canada
CATEGORIES:General
END:VEVENT
BEGIN:VEVENT
DTSTART;TZID=America/Toronto:20220901T183000
DTEND;TZID=America/Toronto:20220901T200000
DTSTAMP:20260419T193053
CREATED:20170919T150416Z
LAST-MODIFIED:20170919T150416Z
UID:15411-1662057000-1662062400@cpcorleans.ca
SUMMARY:CY
DESCRIPTION:CY – Community Youth
URL:https://cpcorleans.ca/event/the-exchange-youth-night-2021-02-11-2-2022-09-01/
LOCATION:CPC Orleans\, 1825 St. Joseph\, Ottawa\, Ontario\, Canada
CATEGORIES:Youth
END:VEVENT
BEGIN:VEVENT
DTSTART;TZID=America/Toronto:20220903T170000
DTEND;TZID=America/Toronto:20220903T190000
DTSTAMP:20260419T193053
CREATED:20190121T151534Z
LAST-MODIFIED:20200908T195917Z
UID:13797-1662224400-1662231600@cpcorleans.ca
SUMMARY:Spanish Service
DESCRIPTION:Join Pastor Luis in Room 109 for this service
URL:https://cpcorleans.ca/event/spanish-service-saturday-2022-09-03/
LOCATION:CPC Orleans\, 1825 St. Joseph\, Ottawa\, Ontario\, Canada
CATEGORIES:Spanish
END:VEVENT
BEGIN:VEVENT
DTSTART;TZID=America/Toronto:20220904T110000
DTEND;TZID=America/Toronto:20220904T120000
DTSTAMP:20260419T193053
CREATED:20220414T140952Z
LAST-MODIFIED:20220414T140952Z
UID:17184-1662289200-1662292800@cpcorleans.ca
SUMMARY:Sunday Morning Service
DESCRIPTION:Join us In-Person or Online
URL:https://cpcorleans.ca/event/sunday-morning-service-2022-09-04/
LOCATION:CPC Orleans\, 1825 St. Joseph\, Ottawa\, Ontario\, Canada
CATEGORIES:General
END:VEVENT
BEGIN:VEVENT
DTSTART;TZID=America/Toronto:20220905T190000
DTEND;TZID=America/Toronto:20220905T210000
DTSTAMP:20260419T193053
CREATED:20220830T160625Z
LAST-MODIFIED:20220830T160625Z
UID:17639-1662404400-1662411600@cpcorleans.ca
SUMMARY:Men's Basketball
DESCRIPTION:
URL:https://cpcorleans.ca/event/mens-basketball/
LOCATION:CPC Orleans\, 1825 St. Joseph\, Ottawa\, Ontario\, Canada
CATEGORIES:Men
END:VEVENT
BEGIN:VEVENT
DTSTART;TZID=America/Toronto:20220907T100000
DTEND;TZID=America/Toronto:20220907T110000
DTSTAMP:20260419T193053
CREATED:20180430T171613Z
LAST-MODIFIED:20180430T171613Z
UID:13991-1662544800-1662548400@cpcorleans.ca
SUMMARY:Men's Breakfast
DESCRIPTION:Join the some of CPC’s men as they meet for breakfast.
URL:https://cpcorleans.ca/event/mens-breakfast-2022-09-07/
LOCATION:CPC Orleans\, 1825 St. Joseph\, Ottawa\, Ontario\, Canada
END:VEVENT
BEGIN:VEVENT
DTSTART;TZID=America/Toronto:20220908T183000
DTEND;TZID=America/Toronto:20220908T200000
DTSTAMP:20260419T193053
CREATED:20170919T150416Z
LAST-MODIFIED:20170919T150416Z
UID:15412-1662661800-1662667200@cpcorleans.ca
SUMMARY:CY
DESCRIPTION:CY – Community Youth
URL:https://cpcorleans.ca/event/the-exchange-youth-night-2021-02-11-2-2022-09-08/
LOCATION:CPC Orleans\, 1825 St. Joseph\, Ottawa\, Ontario\, Canada
CATEGORIES:Youth
END:VEVENT
BEGIN:VEVENT
DTSTART;TZID=America/Toronto:20220908T190000
DTEND;TZID=America/Toronto:20220908T203000
DTSTAMP:20260419T193053
CREATED:20160511T151232Z
LAST-MODIFIED:20160511T151232Z
UID:14015-1662663600-1662669000@cpcorleans.ca
SUMMARY:Gamblers Anonymous
DESCRIPTION:Support group for people affected by gambling.
URL:https://cpcorleans.ca/event/gamblers-anonymous-2022-09-08/
LOCATION:CPC Orleans\, 1825 St. Joseph\, Ottawa\, Ontario\, Canada
CATEGORIES:General
END:VEVENT
BEGIN:VEVENT
DTSTART;VALUE=DATE:20220910
DTEND;VALUE=DATE:20220912
DTSTAMP:20260419T193053
CREATED:20220830T151731Z
LAST-MODIFIED:20220906T144931Z
UID:17512-1662768000-1662940799@cpcorleans.ca
SUMMARY:Homecoming Weekend
DESCRIPTION:Welcome back Community after a Summer away. We trust you’ll be able to join us for our Homecoming events\, click the Registration button for more information.
URL:https://cpcorleans.ca/event/homecoming-weekend-2/
LOCATION:CPC Orleans\, 1825 St. Joseph\, Ottawa\, Ontario\, Canada
END:VEVENT
END:VCALENDAR