BEGIN:VCALENDAR
VERSION:2.0
PRODID:-//CPC Orleans - ECPv6.1.3//NONSGML v1.0//EN
CALSCALE:GREGORIAN
METHOD:PUBLISH
X-WR-CALNAME:CPC Orleans
X-ORIGINAL-URL:https://cpcorleans.ca
X-WR-CALDESC:Events for CPC Orleans
REFRESH-INTERVAL;VALUE=DURATION:PT1H
X-Robots-Tag:noindex
X-PUBLISHED-TTL:PT1H
BEGIN:VTIMEZONE
TZID:America/Toronto
BEGIN:DAYLIGHT
TZOFFSETFROM:-0500
TZOFFSETTO:-0400
TZNAME:EDT
DTSTART:20190310T070000
END:DAYLIGHT
BEGIN:STANDARD
TZOFFSETFROM:-0400
TZOFFSETTO:-0500
TZNAME:EST
DTSTART:20191103T060000
END:STANDARD
BEGIN:DAYLIGHT
TZOFFSETFROM:-0500
TZOFFSETTO:-0400
TZNAME:EDT
DTSTART:20200308T070000
END:DAYLIGHT
BEGIN:STANDARD
TZOFFSETFROM:-0400
TZOFFSETTO:-0500
TZNAME:EST
DTSTART:20201101T060000
END:STANDARD
END:VTIMEZONE
BEGIN:VEVENT
DTSTART;TZID=America/Toronto:20200726T103000
DTEND;TZID=America/Toronto:20200726T113000
DTSTAMP:20260422T000435
CREATED:20200729T012913Z
LAST-MODIFIED:20200729T012913Z
UID:13566-1595759400-1595763000@cpcorleans.ca
SUMMARY:Morning Service (Online)
DESCRIPTION:Join us for Community Online
URL:https://cpcorleans.ca/event/morning-service-online/
LOCATION:CPC Orleans\, 1825 St. Joseph\, Ottawa\, Ontario\, Canada
END:VEVENT
BEGIN:VEVENT
DTSTART;TZID=America/Toronto:20200719T103000
DTEND;TZID=America/Toronto:20200719T120000
DTSTAMP:20260422T000435
CREATED:20160511T154502Z
LAST-MODIFIED:20200729T012059Z
UID:8382-1595154600-1595160000@cpcorleans.ca
SUMMARY:Morning Service (Online)
DESCRIPTION:Sunday church service\n9:45 Pre-Service Prayer
URL:https://cpcorleans.ca/event/morning-service-2020-07-19/
LOCATION:CPC Orleans\, 1825 St. Joseph\, Ottawa\, Ontario\, Canada
CATEGORIES:General
END:VEVENT
BEGIN:VEVENT
DTSTART;TZID=America/Toronto:20200712T103000
DTEND;TZID=America/Toronto:20200712T120000
DTSTAMP:20260422T000435
CREATED:20160511T154502Z
LAST-MODIFIED:20200706T020009Z
UID:8374-1594549800-1594555200@cpcorleans.ca
SUMMARY:Morning Service (Online)
DESCRIPTION:Sunday church service\n9:45 Pre-Service Prayer
URL:https://cpcorleans.ca/event/morning-service-2020-07-12/
LOCATION:CPC Orleans\, 1825 St. Joseph\, Ottawa\, Ontario\, Canada
CATEGORIES:General
END:VEVENT
BEGIN:VEVENT
DTSTART;TZID=America/Toronto:20200705T103000
DTEND;TZID=America/Toronto:20200705T120000
DTSTAMP:20260422T000435
CREATED:20160511T154502Z
LAST-MODIFIED:20200706T015902Z
UID:8357-1593945000-1593950400@cpcorleans.ca
SUMMARY:Morning Service (Online)
DESCRIPTION:Sunday church service\n9:45 Pre-Service Prayer
URL:https://cpcorleans.ca/event/morning-service-2020-07-05/
LOCATION:CPC Orleans\, 1825 St. Joseph\, Ottawa\, Ontario\, Canada
CATEGORIES:General
END:VEVENT
BEGIN:VEVENT
DTSTART;TZID=America/Toronto:20200628T103000
DTEND;TZID=America/Toronto:20200628T120000
DTSTAMP:20260422T000435
CREATED:20160511T154502Z
LAST-MODIFIED:20200706T020048Z
UID:8346-1593340200-1593345600@cpcorleans.ca
SUMMARY:Morning Service (Online)
DESCRIPTION:Sunday church service\n9:45 Pre-Service Prayer
URL:https://cpcorleans.ca/event/morning-service-2020-06-28/
LOCATION:CPC Orleans\, 1825 St. Joseph\, Ottawa\, Ontario\, Canada
CATEGORIES:General
END:VEVENT
BEGIN:VEVENT
DTSTART;TZID=America/Toronto:20200614T103000
DTEND;TZID=America/Toronto:20200614T120000
DTSTAMP:20260422T000435
CREATED:20160511T154502Z
LAST-MODIFIED:20200706T020118Z
UID:8322-1592130600-1592136000@cpcorleans.ca
SUMMARY:Morning Service (Online)
DESCRIPTION:Sunday church service\n9:45 Pre-Service Prayer
URL:https://cpcorleans.ca/event/morning-service-2020-06-14/
LOCATION:CPC Orleans\, 1825 St. Joseph\, Ottawa\, Ontario\, Canada
CATEGORIES:General
END:VEVENT
BEGIN:VEVENT
DTSTART;TZID=America/Toronto:20200607T103000
DTEND;TZID=America/Toronto:20200607T120000
DTSTAMP:20260422T000435
CREATED:20160511T154502Z
LAST-MODIFIED:20200706T020147Z
UID:8312-1591525800-1591531200@cpcorleans.ca
SUMMARY:Morning Service (Online)
DESCRIPTION:Sunday church service\n9:45 Pre-Service Prayer
URL:https://cpcorleans.ca/event/morning-service-2020-06-07/
LOCATION:CPC Orleans\, 1825 St. Joseph\, Ottawa\, Ontario\, Canada
CATEGORIES:General
END:VEVENT
BEGIN:VEVENT
DTSTART;TZID=America/Toronto:20200531T103000
DTEND;TZID=America/Toronto:20200531T120000
DTSTAMP:20260422T000435
CREATED:20160511T154502Z
LAST-MODIFIED:20200706T020221Z
UID:8296-1590921000-1590926400@cpcorleans.ca
SUMMARY:Morning Service (Online)
DESCRIPTION:Sunday church service\n9:45 Pre-Service Prayer
URL:https://cpcorleans.ca/event/morning-service-2020-05-31/
LOCATION:CPC Orleans\, 1825 St. Joseph\, Ottawa\, Ontario\, Canada
CATEGORIES:General
END:VEVENT
BEGIN:VEVENT
DTSTART;TZID=America/Toronto:20200524T103000
DTEND;TZID=America/Toronto:20200524T120000
DTSTAMP:20260422T000435
CREATED:20160511T154502Z
LAST-MODIFIED:20200706T020251Z
UID:8287-1590316200-1590321600@cpcorleans.ca
SUMMARY:Morning Service (Online)
DESCRIPTION:Sunday church service\n9:45 Pre-Service Prayer
URL:https://cpcorleans.ca/event/morning-service-2020-05-24/
LOCATION:CPC Orleans\, 1825 St. Joseph\, Ottawa\, Ontario\, Canada
CATEGORIES:General
END:VEVENT
BEGIN:VEVENT
DTSTART;TZID=America/Toronto:20200517T103000
DTEND;TZID=America/Toronto:20200517T120000
DTSTAMP:20260422T000435
CREATED:20160511T154502Z
LAST-MODIFIED:20200706T020309Z
UID:8250-1589711400-1589716800@cpcorleans.ca
SUMMARY:Morning Service (Online)
DESCRIPTION:Sunday church service\n9:45 Pre-Service Prayer
URL:https://cpcorleans.ca/event/morning-service-2020-05-17/
LOCATION:CPC Orleans\, 1825 St. Joseph\, Ottawa\, Ontario\, Canada
CATEGORIES:General
END:VEVENT
BEGIN:VEVENT
DTSTART;TZID=America/Toronto:20200510T103000
DTEND;TZID=America/Toronto:20200510T120000
DTSTAMP:20260422T000435
CREATED:20160511T154502Z
LAST-MODIFIED:20200706T020341Z
UID:8235-1589106600-1589112000@cpcorleans.ca
SUMMARY:Morning Service (Online)
DESCRIPTION:
URL:https://cpcorleans.ca/event/morning-service-2020-05-10/
LOCATION:CPC Orleans\, 1825 St. Joseph\, Ottawa\, Ontario\, Canada
CATEGORIES:General
END:VEVENT
BEGIN:VEVENT
DTSTART;TZID=America/Toronto:20200503T103000
DTEND;TZID=America/Toronto:20200503T120000
DTSTAMP:20260422T000435
CREATED:20160511T154502Z
LAST-MODIFIED:20200706T020435Z
UID:8222-1588501800-1588507200@cpcorleans.ca
SUMMARY:Morning Service (Online)
DESCRIPTION:
URL:https://cpcorleans.ca/event/morning-service-2020-05-03/
LOCATION:CPC Orleans\, 1825 St. Joseph\, Ottawa\, Ontario\, Canada
CATEGORIES:General
END:VEVENT
BEGIN:VEVENT
DTSTART;TZID=America/Toronto:20200426T103000
DTEND;TZID=America/Toronto:20200426T120000
DTSTAMP:20260422T000435
CREATED:20160511T154502Z
LAST-MODIFIED:20200706T020502Z
UID:8096-1587897000-1587902400@cpcorleans.ca
SUMMARY:Morning Service (Online)
DESCRIPTION:
URL:https://cpcorleans.ca/event/morning-service-2020-04-26/
LOCATION:CPC Orleans\, 1825 St. Joseph\, Ottawa\, Ontario\, Canada
CATEGORIES:General
END:VEVENT
BEGIN:VEVENT
DTSTART;TZID=America/Toronto:20200419T103000
DTEND;TZID=America/Toronto:20200419T120000
DTSTAMP:20260422T000435
CREATED:20160511T154502Z
LAST-MODIFIED:20200706T020527Z
UID:7294-1587292200-1587297600@cpcorleans.ca
SUMMARY:Morning Service (Online)
DESCRIPTION:
URL:https://cpcorleans.ca/event/morning-service-2020-04-19/
LOCATION:CPC Orleans\, 1825 St. Joseph\, Ottawa\, Ontario\, Canada
CATEGORIES:General
END:VEVENT
BEGIN:VEVENT
DTSTART;TZID=America/Toronto:20200412T103000
DTEND;TZID=America/Toronto:20200412T120000
DTSTAMP:20260422T000435
CREATED:20160511T154502Z
LAST-MODIFIED:20200706T020558Z
UID:7283-1586687400-1586692800@cpcorleans.ca
SUMMARY:Morning Service (Online)
DESCRIPTION:
URL:https://cpcorleans.ca/event/morning-service-2020-04-12/
LOCATION:CPC Orleans\, 1825 St. Joseph\, Ottawa\, Ontario\, Canada
CATEGORIES:General
END:VEVENT
BEGIN:VEVENT
DTSTART;TZID=America/Toronto:20200405T103000
DTEND;TZID=America/Toronto:20200405T120000
DTSTAMP:20260422T000435
CREATED:20160511T154502Z
LAST-MODIFIED:20200706T020627Z
UID:7250-1586082600-1586088000@cpcorleans.ca
SUMMARY:Morning Service (Online)
DESCRIPTION:
URL:https://cpcorleans.ca/event/morning-service-2020-04-05/
LOCATION:CPC Orleans\, 1825 St. Joseph\, Ottawa\, Ontario\, Canada
CATEGORIES:General
END:VEVENT
BEGIN:VEVENT
DTSTART;TZID=America/Toronto:20200329T103000
DTEND;TZID=America/Toronto:20200329T120000
DTSTAMP:20260422T000435
CREATED:20160511T154502Z
LAST-MODIFIED:20200706T020659Z
UID:7235-1585477800-1585483200@cpcorleans.ca
SUMMARY:Morning Service (Online)
DESCRIPTION:
URL:https://cpcorleans.ca/event/morning-service-2020-03-29/
LOCATION:CPC Orleans\, 1825 St. Joseph\, Ottawa\, Ontario\, Canada
CATEGORIES:General
END:VEVENT
BEGIN:VEVENT
DTSTART;TZID=America/Toronto:20200322T103000
DTEND;TZID=America/Toronto:20200322T120000
DTSTAMP:20260422T000435
CREATED:20160511T154502Z
LAST-MODIFIED:20200706T020732Z
UID:7227-1584873000-1584878400@cpcorleans.ca
SUMMARY:Morning Service (Online)
DESCRIPTION:
URL:https://cpcorleans.ca/event/morning-service-2020-03-22/
LOCATION:CPC Orleans\, 1825 St. Joseph\, Ottawa\, Ontario\, Canada
CATEGORIES:General
END:VEVENT
BEGIN:VEVENT
DTSTART;TZID=America/Toronto:20200121T190000
DTEND;TZID=America/Toronto:20200121T210000
DTSTAMP:20260422T000435
CREATED:20160928T135030Z
LAST-MODIFIED:20200206T143112Z
UID:7106-1579633200-1579640400@cpcorleans.ca
SUMMARY:Intercessory Prayer
DESCRIPTION:
URL:https://cpcorleans.ca/event/mens-prayer-2020-01-21/
LOCATION:CPC Orleans\, 1825 St. Joseph\, Ottawa\, Ontario\, Canada
CATEGORIES:Prayer
END:VEVENT
BEGIN:VEVENT
DTSTART;VALUE=DATE:20200101
DTEND;VALUE=DATE:20200102
DTSTAMP:20260422T000435
CREATED:20191029T183558Z
LAST-MODIFIED:20191029T183558Z
UID:12396-1577836800-1577923199@cpcorleans.ca
SUMMARY:New Years Day
DESCRIPTION:
URL:https://cpcorleans.ca/event/new-years-day/
LOCATION:CPC Orleans\, 1825 St. Joseph\, Ottawa\, Ontario\, Canada
END:VEVENT
BEGIN:VEVENT
DTSTART;VALUE=DATE:20191231
DTEND;VALUE=DATE:20200101
DTSTAMP:20260422T000435
CREATED:20191029T183500Z
LAST-MODIFIED:20191029T183500Z
UID:12393-1577750400-1577836799@cpcorleans.ca
SUMMARY:New Years Eve
DESCRIPTION:
URL:https://cpcorleans.ca/event/new-years-eve/
LOCATION:CPC Orleans\, 1825 St. Joseph\, Ottawa\, Ontario\, Canada
END:VEVENT
BEGIN:VEVENT
DTSTART;VALUE=DATE:20191226
DTEND;VALUE=DATE:20191227
DTSTAMP:20260422T000435
CREATED:20191029T175817Z
LAST-MODIFIED:20191029T175817Z
UID:12383-1577318400-1577404799@cpcorleans.ca
SUMMARY:Boxing Day
DESCRIPTION:
URL:https://cpcorleans.ca/event/boxing-day/
LOCATION:CPC Orleans\, 1825 St. Joseph\, Ottawa\, Ontario\, Canada
END:VEVENT
BEGIN:VEVENT
DTSTART;VALUE=DATE:20191225
DTEND;VALUE=DATE:20191226
DTSTAMP:20260422T000435
CREATED:20191029T175608Z
LAST-MODIFIED:20191029T175608Z
UID:12378-1577232000-1577318399@cpcorleans.ca
SUMMARY:Christmas Day
DESCRIPTION:
URL:https://cpcorleans.ca/event/christmas-day/
LOCATION:CPC Orleans\, 1825 St. Joseph\, Ottawa\, Ontario\, Canada
END:VEVENT
BEGIN:VEVENT
DTSTART;TZID=America/Toronto:20191224T173000
DTEND;TZID=America/Toronto:20191224T183000
DTSTAMP:20260422T000435
CREATED:20191029T175459Z
LAST-MODIFIED:20191029T175459Z
UID:12375-1577208600-1577212200@cpcorleans.ca
SUMMARY:Christmas Eve Service
DESCRIPTION:Join us for a traditional candlelit service
URL:https://cpcorleans.ca/event/christmas-eve-service/
LOCATION:CPC Orleans\, 1825 St. Joseph\, Ottawa\, Ontario\, Canada
END:VEVENT
BEGIN:VEVENT
DTSTART;TZID=America/Toronto:20191222T103000
DTEND;TZID=America/Toronto:20191222T120000
DTSTAMP:20260422T000435
CREATED:20160511T154502Z
LAST-MODIFIED:20191029T173811Z
UID:7061-1577010600-1577016000@cpcorleans.ca
SUMMARY:Casual Christmas Service
DESCRIPTION:Sunday church service\n9:45 Pre-Service Prayer
URL:https://cpcorleans.ca/event/morning-service-2019-12-22/
LOCATION:CPC Orleans\, 1825 St. Joseph\, Ottawa\, Ontario\, Canada
CATEGORIES:General
END:VEVENT
BEGIN:VEVENT
DTSTART;TZID=America/Toronto:20191218T183000
DTEND;TZID=America/Toronto:20191218T200000
DTSTAMP:20260422T000435
CREATED:20190806T181906Z
LAST-MODIFIED:20191029T180437Z
UID:11944-1576693800-1576699200@cpcorleans.ca
SUMMARY:NRG Jr. Highs
DESCRIPTION:
URL:https://cpcorleans.ca/event/kids-central-nrg-jr-highs-2019-12-18/
LOCATION:CPC Orleans\, 1825 St. Joseph\, Ottawa\, Ontario\, Canada
CATEGORIES:Childrens Events,Youth
END:VEVENT
BEGIN:VEVENT
DTSTART;TZID=America/Toronto:20191215T090000
DTEND;TZID=America/Toronto:20191215T101500
DTSTAMP:20260422T000435
CREATED:20160511T154502Z
LAST-MODIFIED:20191029T173712Z
UID:7049-1576400400-1576404900@cpcorleans.ca
SUMMARY:Christmas Creative Service
DESCRIPTION:This years Christmas Creative Service is titled\, “The Cabin”. \n 
URL:https://cpcorleans.ca/event/morning-service-2019-12-15/
LOCATION:CPC Orleans\, 1825 St. Joseph\, Ottawa\, Ontario\, Canada
CATEGORIES:General
END:VEVENT
BEGIN:VEVENT
DTSTART;TZID=America/Toronto:20191201T183000
DTEND;TZID=America/Toronto:20191201T200000
DTSTAMP:20260422T000435
CREATED:20191113T203327Z
LAST-MODIFIED:20191113T203327Z
UID:12464-1575225000-1575230400@cpcorleans.ca
SUMMARY:Orléans Choirfest
DESCRIPTION:
URL:https://cpcorleans.ca/event/orleans-choirfest/
LOCATION:CPC Orleans\, 1825 St. Joseph\, Ottawa\, Ontario\, Canada
END:VEVENT
BEGIN:VEVENT
DTSTART;TZID=America/Toronto:20191130T170000
DTEND;TZID=America/Toronto:20191130T190000
DTSTAMP:20260422T000435
CREATED:20191029T153357Z
LAST-MODIFIED:20191029T153357Z
UID:12297-1575133200-1575140400@cpcorleans.ca
SUMMARY:Orléans Parade of Lights
DESCRIPTION:
URL:https://cpcorleans.ca/event/orleans-parade-of-lights/
LOCATION:CPC Orleans\, 1825 St. Joseph\, Ottawa\, Ontario\, Canada
END:VEVENT
BEGIN:VEVENT
DTSTART;TZID=America/Toronto:20191124T120000
DTEND;TZID=America/Toronto:20191124T133000
DTSTAMP:20260422T000435
CREATED:20191029T144849Z
LAST-MODIFIED:20191029T144849Z
UID:12290-1574596800-1574602200@cpcorleans.ca
SUMMARY:Taste of the Nations
DESCRIPTION:
URL:https://cpcorleans.ca/event/taste-of-the-nations/
LOCATION:CPC Orleans\, 1825 St. Joseph\, Ottawa\, Ontario\, Canada
END:VEVENT
END:VCALENDAR