BEGIN:VCALENDAR
VERSION:2.0
PRODID:-//CPC Orleans - ECPv6.1.3//NONSGML v1.0//EN
CALSCALE:GREGORIAN
METHOD:PUBLISH
X-WR-CALNAME:CPC Orleans
X-ORIGINAL-URL:https://cpcorleans.ca
X-WR-CALDESC:Events for CPC Orleans
REFRESH-INTERVAL;VALUE=DURATION:PT1H
X-Robots-Tag:noindex
X-PUBLISHED-TTL:PT1H
BEGIN:VTIMEZONE
TZID:America/Toronto
BEGIN:DAYLIGHT
TZOFFSETFROM:-0500
TZOFFSETTO:-0400
TZNAME:EDT
DTSTART:20220313T070000
END:DAYLIGHT
BEGIN:STANDARD
TZOFFSETFROM:-0400
TZOFFSETTO:-0500
TZNAME:EST
DTSTART:20221106T060000
END:STANDARD
END:VTIMEZONE
BEGIN:VEVENT
DTSTART;TZID=America/Toronto:20220804T183000
DTEND;TZID=America/Toronto:20220804T200000
DTSTAMP:20260419T142900
CREATED:20170919T150416Z
LAST-MODIFIED:20170919T150416Z
UID:15407-1659637800-1659643200@cpcorleans.ca
SUMMARY:CY
DESCRIPTION:CY – Community Youth
URL:https://cpcorleans.ca/event/the-exchange-youth-night-2021-02-11-2-2022-08-04/
LOCATION:CPC Orleans\, 1825 St. Joseph\, Ottawa\, Ontario\, Canada
CATEGORIES:Youth
END:VEVENT
BEGIN:VEVENT
DTSTART;TZID=America/Toronto:20220806T170000
DTEND;TZID=America/Toronto:20220806T190000
DTSTAMP:20260419T142900
CREATED:20190121T151534Z
LAST-MODIFIED:20200908T195915Z
UID:13723-1659805200-1659812400@cpcorleans.ca
SUMMARY:Spanish Service
DESCRIPTION:Join Pastor Luis in Room 109 for this service
URL:https://cpcorleans.ca/event/spanish-service-saturday-2022-08-06/
LOCATION:CPC Orleans\, 1825 St. Joseph\, Ottawa\, Ontario\, Canada
CATEGORIES:Spanish
END:VEVENT
BEGIN:VEVENT
DTSTART;TZID=America/Toronto:20220807T110000
DTEND;TZID=America/Toronto:20220807T120000
DTSTAMP:20260419T142900
CREATED:20220414T140952Z
LAST-MODIFIED:20220414T140952Z
UID:17180-1659870000-1659873600@cpcorleans.ca
SUMMARY:Sunday Morning Service
DESCRIPTION:Join us In-Person or Online
URL:https://cpcorleans.ca/event/sunday-morning-service-2022-08-07/
LOCATION:CPC Orleans\, 1825 St. Joseph\, Ottawa\, Ontario\, Canada
CATEGORIES:General
END:VEVENT
BEGIN:VEVENT
DTSTART;TZID=America/Toronto:20220811T183000
DTEND;TZID=America/Toronto:20220811T200000
DTSTAMP:20260419T142900
CREATED:20170919T150416Z
LAST-MODIFIED:20170919T150416Z
UID:15408-1660242600-1660248000@cpcorleans.ca
SUMMARY:CY
DESCRIPTION:CY – Community Youth
URL:https://cpcorleans.ca/event/the-exchange-youth-night-2021-02-11-2-2022-08-11/
LOCATION:CPC Orleans\, 1825 St. Joseph\, Ottawa\, Ontario\, Canada
CATEGORIES:Youth
END:VEVENT
BEGIN:VEVENT
DTSTART;TZID=America/Toronto:20220813T170000
DTEND;TZID=America/Toronto:20220813T190000
DTSTAMP:20260419T142900
CREATED:20190121T151534Z
LAST-MODIFIED:20200908T195915Z
UID:13735-1660410000-1660417200@cpcorleans.ca
SUMMARY:Spanish Service
DESCRIPTION:Join Pastor Luis in Room 109 for this service
URL:https://cpcorleans.ca/event/spanish-service-saturday-2022-08-13/
LOCATION:CPC Orleans\, 1825 St. Joseph\, Ottawa\, Ontario\, Canada
CATEGORIES:Spanish
END:VEVENT
BEGIN:VEVENT
DTSTART;TZID=America/Toronto:20220814T110000
DTEND;TZID=America/Toronto:20220814T120000
DTSTAMP:20260419T142900
CREATED:20220414T140952Z
LAST-MODIFIED:20220414T140952Z
UID:17181-1660474800-1660478400@cpcorleans.ca
SUMMARY:Sunday Morning Service
DESCRIPTION:Join us In-Person or Online
URL:https://cpcorleans.ca/event/sunday-morning-service-2022-08-14/
LOCATION:CPC Orleans\, 1825 St. Joseph\, Ottawa\, Ontario\, Canada
CATEGORIES:General
END:VEVENT
BEGIN:VEVENT
DTSTART;TZID=America/Toronto:20220818T183000
DTEND;TZID=America/Toronto:20220818T200000
DTSTAMP:20260419T142900
CREATED:20170919T150416Z
LAST-MODIFIED:20170919T150416Z
UID:15409-1660847400-1660852800@cpcorleans.ca
SUMMARY:CY
DESCRIPTION:CY – Community Youth
URL:https://cpcorleans.ca/event/the-exchange-youth-night-2021-02-11-2-2022-08-18/
LOCATION:CPC Orleans\, 1825 St. Joseph\, Ottawa\, Ontario\, Canada
CATEGORIES:Youth
END:VEVENT
BEGIN:VEVENT
DTSTART;TZID=America/Toronto:20220820T170000
DTEND;TZID=America/Toronto:20220820T190000
DTSTAMP:20260419T142900
CREATED:20190121T151534Z
LAST-MODIFIED:20200908T195915Z
UID:13757-1661014800-1661022000@cpcorleans.ca
SUMMARY:Spanish Service
DESCRIPTION:Join Pastor Luis in Room 109 for this service
URL:https://cpcorleans.ca/event/spanish-service-saturday-2022-08-20/
LOCATION:CPC Orleans\, 1825 St. Joseph\, Ottawa\, Ontario\, Canada
CATEGORIES:Spanish
END:VEVENT
BEGIN:VEVENT
DTSTART;TZID=America/Toronto:20220821T110000
DTEND;TZID=America/Toronto:20220821T120000
DTSTAMP:20260419T142900
CREATED:20220414T140952Z
LAST-MODIFIED:20220414T140952Z
UID:17182-1661079600-1661083200@cpcorleans.ca
SUMMARY:Sunday Morning Service
DESCRIPTION:Join us In-Person or Online
URL:https://cpcorleans.ca/event/sunday-morning-service-2022-08-21/
LOCATION:CPC Orleans\, 1825 St. Joseph\, Ottawa\, Ontario\, Canada
CATEGORIES:General
END:VEVENT
BEGIN:VEVENT
DTSTART;TZID=America/Toronto:20220825T183000
DTEND;TZID=America/Toronto:20220825T200000
DTSTAMP:20260419T142900
CREATED:20170919T150416Z
LAST-MODIFIED:20170919T150416Z
UID:15410-1661452200-1661457600@cpcorleans.ca
SUMMARY:CY
DESCRIPTION:CY – Community Youth
URL:https://cpcorleans.ca/event/the-exchange-youth-night-2021-02-11-2-2022-08-25/
LOCATION:CPC Orleans\, 1825 St. Joseph\, Ottawa\, Ontario\, Canada
CATEGORIES:Youth
END:VEVENT
BEGIN:VEVENT
DTSTART;TZID=America/Toronto:20220827T170000
DTEND;TZID=America/Toronto:20220827T190000
DTSTAMP:20260419T142900
CREATED:20190121T151534Z
LAST-MODIFIED:20200908T195916Z
UID:13782-1661619600-1661626800@cpcorleans.ca
SUMMARY:Spanish Service
DESCRIPTION:Join Pastor Luis in Room 109 for this service
URL:https://cpcorleans.ca/event/spanish-service-saturday-2022-08-27/
LOCATION:CPC Orleans\, 1825 St. Joseph\, Ottawa\, Ontario\, Canada
CATEGORIES:Spanish
END:VEVENT
BEGIN:VEVENT
DTSTART;TZID=America/Toronto:20220828T110000
DTEND;TZID=America/Toronto:20220828T120000
DTSTAMP:20260419T142900
CREATED:20220414T140952Z
LAST-MODIFIED:20220414T140952Z
UID:17183-1661684400-1661688000@cpcorleans.ca
SUMMARY:Sunday Morning Service
DESCRIPTION:Join us In-Person or Online
URL:https://cpcorleans.ca/event/sunday-morning-service-2022-08-28/
LOCATION:CPC Orleans\, 1825 St. Joseph\, Ottawa\, Ontario\, Canada
CATEGORIES:General
END:VEVENT
END:VCALENDAR